BEGIN:VCALENDAR
VERSION:2.0
PRODID:-//River Bend Nature Center - ECPv6.15.20//NONSGML v1.0//EN
CALSCALE:GREGORIAN
METHOD:PUBLISH
X-WR-CALNAME:River Bend Nature Center
X-ORIGINAL-URL:https://rbnc.org
X-WR-CALDESC:Events for River Bend Nature Center
REFRESH-INTERVAL;VALUE=DURATION:PT1H
X-Robots-Tag:noindex
X-PUBLISHED-TTL:PT1H
BEGIN:VTIMEZONE
TZID:America/Chicago
BEGIN:DAYLIGHT
TZOFFSETFROM:-0600
TZOFFSETTO:-0500
TZNAME:CDT
DTSTART:20230312T080000
END:DAYLIGHT
BEGIN:STANDARD
TZOFFSETFROM:-0500
TZOFFSETTO:-0600
TZNAME:CST
DTSTART:20231105T070000
END:STANDARD
BEGIN:DAYLIGHT
TZOFFSETFROM:-0600
TZOFFSETTO:-0500
TZNAME:CDT
DTSTART:20240310T080000
END:DAYLIGHT
BEGIN:STANDARD
TZOFFSETFROM:-0500
TZOFFSETTO:-0600
TZNAME:CST
DTSTART:20241103T070000
END:STANDARD
BEGIN:DAYLIGHT
TZOFFSETFROM:-0600
TZOFFSETTO:-0500
TZNAME:CDT
DTSTART:20250309T080000
END:DAYLIGHT
BEGIN:STANDARD
TZOFFSETFROM:-0500
TZOFFSETTO:-0600
TZNAME:CST
DTSTART:20251102T070000
END:STANDARD
END:VTIMEZONE
BEGIN:VEVENT
DTSTART;TZID=America/Chicago:20240617T090000
DTEND;TZID=America/Chicago:20240617T160000
DTSTAMP:20260419T104232
CREATED:20240220T145358Z
LAST-MODIFIED:20240220T145452Z
UID:5985-1718614800-1718640000@rbnc.org
SUMMARY:Survival Skills Summer Camp
DESCRIPTION:Survival Skills – Herons (3-5)\nJune 17 & 18\, Mon-Tues\, 9am – 4pm\n$55 ($30 for members)\nCome sharpen your survival skills! Campers will spend time learning what it takes to survive in the wilderness and then get hands-on experience applying their skills. \nRegister Here
URL:https://rbnc.org/event/survival-skills-summer-camp/2024-06-17
LOCATION:River Bend Nature Center\, 1000 Rustad Rd.\, Faribault\, MN\, 55021
GEO:44.2776174;-93.2413536
X-APPLE-STRUCTURED-LOCATION;VALUE=URI;X-ADDRESS=River Bend Nature Center 1000 Rustad Rd. Faribault MN 55021;X-APPLE-RADIUS=500;X-TITLE=1000 Rustad Rd.:geo:-93.2413536,44.2776174
END:VEVENT
BEGIN:VEVENT
DTSTART;TZID=America/Chicago:20240618T090000
DTEND;TZID=America/Chicago:20240618T160000
DTSTAMP:20260419T104232
CREATED:20240220T145358Z
LAST-MODIFIED:20240220T145358Z
UID:5987-1718701200-1718726400@rbnc.org
SUMMARY:Survival Skills Summer Camp
DESCRIPTION:Survival Skills – Herons (3-5)\nJune 17 & 18\, Mon-Tues\, 9am – 4pm\n$55 ($30 for members)\nCome sharpen your survival skills! Campers will spend time learning what it takes to survive in the wilderness and then get hands-on experience applying their skills. \nRegister Here
URL:https://rbnc.org/event/survival-skills-summer-camp/2024-06-18
LOCATION:River Bend Nature Center\, 1000 Rustad Rd.\, Faribault\, MN\, 55021
GEO:44.2776174;-93.2413536
X-APPLE-STRUCTURED-LOCATION;VALUE=URI;X-ADDRESS=River Bend Nature Center 1000 Rustad Rd. Faribault MN 55021;X-APPLE-RADIUS=500;X-TITLE=1000 Rustad Rd.:geo:-93.2413536,44.2776174
END:VEVENT
BEGIN:VEVENT
DTSTART;TZID=America/Chicago:20240619T090000
DTEND;TZID=America/Chicago:20240619T160000
DTSTAMP:20260419T104232
CREATED:20240220T150918Z
LAST-MODIFIED:20240220T150918Z
UID:5988-1718787600-1718812800@rbnc.org
SUMMARY:Archery and Atlatls Summer Camp
DESCRIPTION:Archery and Atlatls – Herons (3-5)\nJune 19 & 20\, Wed-Thurs\, 9am – 4pm\n$55 ($30 for members)\nCome learn the basics of archery and atlatls at River Bend Nature Center. We will learn the fundamentals\, play games\, and hone these time-honored skills. All equipment will be provided. \nRegister Here
URL:https://rbnc.org/event/archery-and-atlatls-summer-camp/2024-06-19
LOCATION:River Bend Nature Center\, 1000 Rustad Rd.\, Faribault\, MN\, 55021
GEO:44.2776174;-93.2413536
X-APPLE-STRUCTURED-LOCATION;VALUE=URI;X-ADDRESS=River Bend Nature Center 1000 Rustad Rd. Faribault MN 55021;X-APPLE-RADIUS=500;X-TITLE=1000 Rustad Rd.:geo:-93.2413536,44.2776174
END:VEVENT
BEGIN:VEVENT
DTSTART;TZID=America/Chicago:20240619T120000
DTEND;TZID=America/Chicago:20240619T140000
DTSTAMP:20260419T104232
CREATED:20240314T213548Z
LAST-MODIFIED:20240314T213548Z
UID:6078-1718798400-1718805600@rbnc.org
SUMMARY:Lunch & Learn: Recycling and Composting
DESCRIPTION:Lunch & Learn: Recycling and Composting \nCost: $10 ($5 for River Bend members).\n \nWednesday\, June 19\, 2024\, 12:00-2:00pm\nTopic: Recycling and Composting \nCan this be recycled? Can this be composted? Why not put everything in the landfill? These are just a few questions we all struggle with. Join\, as we discuss these questions and more about recycling and composting! Bring your own lunch and join us as we learn about a new topic each month.
URL:https://rbnc.org/event/lunch-learn-recycling-and-composting
LOCATION:River Bend Nature Center\, 1000 Rustad Rd.\, Faribault\, MN\, 55021
GEO:44.2776174;-93.2413536
X-APPLE-STRUCTURED-LOCATION;VALUE=URI;X-ADDRESS=River Bend Nature Center 1000 Rustad Rd. Faribault MN 55021;X-APPLE-RADIUS=500;X-TITLE=1000 Rustad Rd.:geo:-93.2413536,44.2776174
END:VEVENT
BEGIN:VEVENT
DTSTART;TZID=America/Chicago:20240620T090000
DTEND;TZID=America/Chicago:20240620T160000
DTSTAMP:20260419T104232
CREATED:20240220T150918Z
LAST-MODIFIED:20240220T150918Z
UID:5989-1718874000-1718899200@rbnc.org
SUMMARY:Archery and Atlatls Summer Camp
DESCRIPTION:Archery and Atlatls – Herons (3-5)\nJune 19 & 20\, Wed-Thurs\, 9am – 4pm\n$55 ($30 for members)\nCome learn the basics of archery and atlatls at River Bend Nature Center. We will learn the fundamentals\, play games\, and hone these time-honored skills. All equipment will be provided. \nRegister Here
URL:https://rbnc.org/event/archery-and-atlatls-summer-camp/2024-06-20
LOCATION:River Bend Nature Center\, 1000 Rustad Rd.\, Faribault\, MN\, 55021
GEO:44.2776174;-93.2413536
X-APPLE-STRUCTURED-LOCATION;VALUE=URI;X-ADDRESS=River Bend Nature Center 1000 Rustad Rd. Faribault MN 55021;X-APPLE-RADIUS=500;X-TITLE=1000 Rustad Rd.:geo:-93.2413536,44.2776174
END:VEVENT
BEGIN:VEVENT
DTSTART;TZID=America/Chicago:20240622T100000
DTEND;TZID=America/Chicago:20240622T110000
DTSTAMP:20260419T104232
CREATED:20240314T213742Z
LAST-MODIFIED:20240314T213742Z
UID:6080-1719050400-1719054000@rbnc.org
SUMMARY:Storytime with a Naturalist: All About Owls
DESCRIPTION:Storytime with a Naturalist: All About Owls \nAll ages. Cost: Free \nSaturday\, June 22\, 2024\, 10:00 am-11:00 am \nJoin a naturalist for storytime on Saturdays! Free to attend. Topic themes coordinate with Family Paint sessions. Make a day of it and attend both!
URL:https://rbnc.org/event/storytime-with-a-naturalist-all-about-owls
LOCATION:River Bend Nature Center\, 1000 Rustad Rd.\, Faribault\, MN\, 55021
GEO:44.2776174;-93.2413536
X-APPLE-STRUCTURED-LOCATION;VALUE=URI;X-ADDRESS=River Bend Nature Center 1000 Rustad Rd. Faribault MN 55021;X-APPLE-RADIUS=500;X-TITLE=1000 Rustad Rd.:geo:-93.2413536,44.2776174
END:VEVENT
BEGIN:VEVENT
DTSTART;TZID=America/Chicago:20240622T110000
DTEND;TZID=America/Chicago:20240622T123000
DTSTAMP:20260419T104232
CREATED:20240314T213855Z
LAST-MODIFIED:20240314T213855Z
UID:6082-1719054000-1719059400@rbnc.org
SUMMARY:Family Painting: Give a Hoot About Owls
DESCRIPTION:Family Painting: Give a Hoot About Owls \nAll ages. Cost: Free \nSaturday\, June 22\, 2024\, 11:00 am-12:30 pm \nJoin artist Kate Langlais for a fun\, free family painting program. Learn all about owls in Minnesota and how to paint them! Pre-registration is required to ensure enough supplies are available for participants. This activity is made possible by the voters of Minnesota through a grant from the Minnesota State Arts Board thanks to legislative appropriation from the arts and cultural heritage fund. Themes coordinate with Storytime with a Naturalist. Make a day of it and attend both!
URL:https://rbnc.org/event/family-painting-give-a-hoot-about-owls
LOCATION:River Bend Nature Center\, 1000 Rustad Rd.\, Faribault\, MN\, 55021
GEO:44.2776174;-93.2413536
X-APPLE-STRUCTURED-LOCATION;VALUE=URI;X-ADDRESS=River Bend Nature Center 1000 Rustad Rd. Faribault MN 55021;X-APPLE-RADIUS=500;X-TITLE=1000 Rustad Rd.:geo:-93.2413536,44.2776174
END:VEVENT
END:VCALENDAR