BEGIN:VCALENDAR
VERSION:2.0
PRODID:-//River Bend Nature Center - ECPv6.15.20//NONSGML v1.0//EN
CALSCALE:GREGORIAN
METHOD:PUBLISH
X-WR-CALNAME:River Bend Nature Center
X-ORIGINAL-URL:https://rbnc.org
X-WR-CALDESC:Events for River Bend Nature Center
REFRESH-INTERVAL;VALUE=DURATION:PT1H
X-Robots-Tag:noindex
X-PUBLISHED-TTL:PT1H
BEGIN:VTIMEZONE
TZID:America/Chicago
BEGIN:DAYLIGHT
TZOFFSETFROM:-0600
TZOFFSETTO:-0500
TZNAME:CDT
DTSTART:20230312T080000
END:DAYLIGHT
BEGIN:STANDARD
TZOFFSETFROM:-0500
TZOFFSETTO:-0600
TZNAME:CST
DTSTART:20231105T070000
END:STANDARD
BEGIN:DAYLIGHT
TZOFFSETFROM:-0600
TZOFFSETTO:-0500
TZNAME:CDT
DTSTART:20240310T080000
END:DAYLIGHT
BEGIN:STANDARD
TZOFFSETFROM:-0500
TZOFFSETTO:-0600
TZNAME:CST
DTSTART:20241103T070000
END:STANDARD
BEGIN:DAYLIGHT
TZOFFSETFROM:-0600
TZOFFSETTO:-0500
TZNAME:CDT
DTSTART:20250309T080000
END:DAYLIGHT
BEGIN:STANDARD
TZOFFSETFROM:-0500
TZOFFSETTO:-0600
TZNAME:CST
DTSTART:20251102T070000
END:STANDARD
END:VTIMEZONE
BEGIN:VEVENT
DTSTART;TZID=America/Chicago:20240610T090000
DTEND;TZID=America/Chicago:20240610T160000
DTSTAMP:20260420T030156
CREATED:20240220T144916Z
LAST-MODIFIED:20240220T145244Z
UID:5977-1718010000-1718035200@rbnc.org
SUMMARY:Dinosaurs Summer Camp
DESCRIPTION:Dinosaurs – Meadowlarks (K-2)\nJune 10 & 11\, Mon-Tue\, 9am – 4pm\n$55 ($30 for members)\nTake a trip back in time as we explore dinosaurs! Come learn all about the prehistoric world as we play games\, make art\, and look for fossils.   \nRegister Here
URL:https://rbnc.org/event/dinosaurs-summer-camp/2024-06-10
LOCATION:River Bend Nature Center\, 1000 Rustad Rd.\, Faribault\, MN\, 55021
GEO:44.2776174;-93.2413536
X-APPLE-STRUCTURED-LOCATION;VALUE=URI;X-ADDRESS=River Bend Nature Center 1000 Rustad Rd. Faribault MN 55021;X-APPLE-RADIUS=500;X-TITLE=1000 Rustad Rd.:geo:-93.2413536,44.2776174
END:VEVENT
BEGIN:VEVENT
DTSTART;TZID=America/Chicago:20240611T090000
DTEND;TZID=America/Chicago:20240611T160000
DTSTAMP:20260420T030156
CREATED:20240220T144916Z
LAST-MODIFIED:20240220T145244Z
UID:5978-1718096400-1718121600@rbnc.org
SUMMARY:Dinosaurs Summer Camp
DESCRIPTION:Dinosaurs – Meadowlarks (K-2)\nJune 10 & 11\, Mon-Tue\, 9am – 4pm\n$55 ($30 for members)\nTake a trip back in time as we explore dinosaurs! Come learn all about the prehistoric world as we play games\, make art\, and look for fossils.   \nRegister Here
URL:https://rbnc.org/event/dinosaurs-summer-camp/2024-06-11
LOCATION:River Bend Nature Center\, 1000 Rustad Rd.\, Faribault\, MN\, 55021
GEO:44.2776174;-93.2413536
X-APPLE-STRUCTURED-LOCATION;VALUE=URI;X-ADDRESS=River Bend Nature Center 1000 Rustad Rd. Faribault MN 55021;X-APPLE-RADIUS=500;X-TITLE=1000 Rustad Rd.:geo:-93.2413536,44.2776174
END:VEVENT
BEGIN:VEVENT
DTSTART;TZID=America/Chicago:20240612T090000
DTEND;TZID=America/Chicago:20240612T160000
DTSTAMP:20260420T030156
CREATED:20240220T145144Z
LAST-MODIFIED:20240220T145144Z
UID:5980-1718182800-1718208000@rbnc.org
SUMMARY:Creepy Crawlies Summer Camp
DESCRIPTION:Creepy Crawlies – Meadowlarks (K-2)\nJune 12 & 13\, Wed-Thurs\, 9am – 4pm\n$55 ($30 for members)\nJoin us as we inspect the pond\, look under logs\, and explore the forest looking for critters. From insects to snakes discover all that creeps and crawls and calls River Bend home. Come ready to explore!  \nRegister Here
URL:https://rbnc.org/event/creepy-crawlies-summer-camp/2024-06-12
LOCATION:River Bend Nature Center\, 1000 Rustad Rd.\, Faribault\, MN\, 55021
GEO:44.2776174;-93.2413536
X-APPLE-STRUCTURED-LOCATION;VALUE=URI;X-ADDRESS=River Bend Nature Center 1000 Rustad Rd. Faribault MN 55021;X-APPLE-RADIUS=500;X-TITLE=1000 Rustad Rd.:geo:-93.2413536,44.2776174
END:VEVENT
BEGIN:VEVENT
DTSTART;TZID=America/Chicago:20240613T090000
DTEND;TZID=America/Chicago:20240613T160000
DTSTAMP:20260420T030156
CREATED:20240220T145144Z
LAST-MODIFIED:20240220T145144Z
UID:5981-1718269200-1718294400@rbnc.org
SUMMARY:Creepy Crawlies Summer Camp
DESCRIPTION:Creepy Crawlies – Meadowlarks (K-2)\nJune 12 & 13\, Wed-Thurs\, 9am – 4pm\n$55 ($30 for members)\nJoin us as we inspect the pond\, look under logs\, and explore the forest looking for critters. From insects to snakes discover all that creeps and crawls and calls River Bend home. Come ready to explore!  \nRegister Here
URL:https://rbnc.org/event/creepy-crawlies-summer-camp/2024-06-13
LOCATION:River Bend Nature Center\, 1000 Rustad Rd.\, Faribault\, MN\, 55021
GEO:44.2776174;-93.2413536
X-APPLE-STRUCTURED-LOCATION;VALUE=URI;X-ADDRESS=River Bend Nature Center 1000 Rustad Rd. Faribault MN 55021;X-APPLE-RADIUS=500;X-TITLE=1000 Rustad Rd.:geo:-93.2413536,44.2776174
END:VEVENT
END:VCALENDAR