BEGIN:VCALENDAR
VERSION:2.0
PRODID:-//River Bend Nature Center - ECPv6.15.20//NONSGML v1.0//EN
CALSCALE:GREGORIAN
METHOD:PUBLISH
X-ORIGINAL-URL:https://rbnc.org
X-WR-CALDESC:Events for River Bend Nature Center
REFRESH-INTERVAL;VALUE=DURATION:PT1H
X-Robots-Tag:noindex
X-PUBLISHED-TTL:PT1H
BEGIN:VTIMEZONE
TZID:America/Chicago
BEGIN:DAYLIGHT
TZOFFSETFROM:-0600
TZOFFSETTO:-0500
TZNAME:CDT
DTSTART:20230312T080000
END:DAYLIGHT
BEGIN:STANDARD
TZOFFSETFROM:-0500
TZOFFSETTO:-0600
TZNAME:CST
DTSTART:20231105T070000
END:STANDARD
BEGIN:DAYLIGHT
TZOFFSETFROM:-0600
TZOFFSETTO:-0500
TZNAME:CDT
DTSTART:20240310T080000
END:DAYLIGHT
BEGIN:STANDARD
TZOFFSETFROM:-0500
TZOFFSETTO:-0600
TZNAME:CST
DTSTART:20241103T070000
END:STANDARD
BEGIN:DAYLIGHT
TZOFFSETFROM:-0600
TZOFFSETTO:-0500
TZNAME:CDT
DTSTART:20250309T080000
END:DAYLIGHT
BEGIN:STANDARD
TZOFFSETFROM:-0500
TZOFFSETTO:-0600
TZNAME:CST
DTSTART:20251102T070000
END:STANDARD
END:VTIMEZONE
BEGIN:VEVENT
DTSTART;TZID=America/Chicago:20240513T093000
DTEND;TZID=America/Chicago:20240513T110000
DTSTAMP:20260420T012754
CREATED:20240219T211050Z
LAST-MODIFIED:20240219T211050Z
UID:5963-1715592600-1715598000@rbnc.org
SUMMARY:Little Sprouts: Colors\, shapes & textures in nature
DESCRIPTION:Little Sprouts: Colors\, shapes & textures in nature \nCost: $10/child\, $5/member\nMonday\, May13\, 2024\,  9:30am-11am \nNature is beautiful in so many ways. Become inspired by nature through colors\, shapes & textures! Dress for the weather\, as a portion of the class will be outside.
URL:https://rbnc.org/event/little-sprouts-colors-shapes-textures-in-nature
LOCATION:River Bend Nature Center\, 1000 Rustad Rd.\, Faribault\, MN\, 55021
GEO:44.2776174;-93.2413536
X-APPLE-STRUCTURED-LOCATION;VALUE=URI;X-ADDRESS=River Bend Nature Center 1000 Rustad Rd. Faribault MN 55021;X-APPLE-RADIUS=500;X-TITLE=1000 Rustad Rd.:geo:-93.2413536,44.2776174
END:VEVENT
BEGIN:VEVENT
DTSTART;TZID=America/Chicago:20240513T130000
DTEND;TZID=America/Chicago:20240513T150000
DTSTAMP:20260420T012754
CREATED:20240219T211150Z
LAST-MODIFIED:20240219T211150Z
UID:5965-1715605200-1715612400@rbnc.org
SUMMARY:Homeschool: Aquatic Ecosystems
DESCRIPTION:Homeschool: Aquatic Ecosystems \nages 5-12. Cost: $10/person\, $5/member\nMonday\, May 13\, 2024\,  1-3pm \nExplore the ponds and river while learning what an aquatic ecosystem is\, why it’s important\, and how we can help protect them.
URL:https://rbnc.org/event/homeschool-aquatic-ecosystems
LOCATION:River Bend Nature Center\, 1000 Rustad Rd.\, Faribault\, MN\, 55021
GEO:44.2776174;-93.2413536
X-APPLE-STRUCTURED-LOCATION;VALUE=URI;X-ADDRESS=River Bend Nature Center 1000 Rustad Rd. Faribault MN 55021;X-APPLE-RADIUS=500;X-TITLE=1000 Rustad Rd.:geo:-93.2413536,44.2776174
END:VEVENT
BEGIN:VEVENT
DTSTART;TZID=America/Chicago:20240515T120000
DTEND;TZID=America/Chicago:20240515T140000
DTSTAMP:20260420T012754
CREATED:20240219T211240Z
LAST-MODIFIED:20240219T211240Z
UID:5967-1715774400-1715781600@rbnc.org
SUMMARY:Lunch & Learn: Wildflowers (Dwarf Trout Lily)
DESCRIPTION:Lunch & Learn: Wildflowers (Dwarf Trout Lily) \nCost: $10 ($5 for River Bend members).\n \nWednesday\, May 15\, 2024\, 12:00-2:00pm\nTopic: Wildflowers (Dwarf Trout Lily)\, Guest speaker Andy Wendt from Nerstrand State Park \nBring your own lunch and join us as we learn about a new topic each month.
URL:https://rbnc.org/event/lunch-learn-wildflowers-dwarf-trout-lily
LOCATION:River Bend Nature Center\, 1000 Rustad Rd.\, Faribault\, MN\, 55021
GEO:44.2776174;-93.2413536
X-APPLE-STRUCTURED-LOCATION;VALUE=URI;X-ADDRESS=River Bend Nature Center 1000 Rustad Rd. Faribault MN 55021;X-APPLE-RADIUS=500;X-TITLE=1000 Rustad Rd.:geo:-93.2413536,44.2776174
END:VEVENT
BEGIN:VEVENT
DTSTART;TZID=America/Chicago:20240518T130000
DTEND;TZID=America/Chicago:20240518T140000
DTSTAMP:20260420T012754
CREATED:20240219T211333Z
LAST-MODIFIED:20240219T211333Z
UID:5969-1716037200-1716040800@rbnc.org
SUMMARY:Woodland Flowers Walk
DESCRIPTION:Woodland Flowers Walk \nAll Ages \nCost: $10 ($5 for River Bend members). \nSaturday\, May 18\, 2024\, 1:00-2:00pm \nTake a walk with a naturalist and learn tips and tricks for identifying different woodland flowers.
URL:https://rbnc.org/event/woodland-flowers-walk
LOCATION:River Bend Nature Center\, 1000 Rustad Rd.\, Faribault\, MN\, 55021
GEO:44.2776174;-93.2413536
X-APPLE-STRUCTURED-LOCATION;VALUE=URI;X-ADDRESS=River Bend Nature Center 1000 Rustad Rd. Faribault MN 55021;X-APPLE-RADIUS=500;X-TITLE=1000 Rustad Rd.:geo:-93.2413536,44.2776174
END:VEVENT
END:VCALENDAR