BEGIN:VCALENDAR
VERSION:2.0
PRODID:-//River Bend Nature Center - ECPv6.15.20//NONSGML v1.0//EN
CALSCALE:GREGORIAN
METHOD:PUBLISH
X-WR-CALNAME:River Bend Nature Center
X-ORIGINAL-URL:https://rbnc.org
X-WR-CALDESC:Events for River Bend Nature Center
REFRESH-INTERVAL;VALUE=DURATION:PT1H
X-Robots-Tag:noindex
X-PUBLISHED-TTL:PT1H
BEGIN:VTIMEZONE
TZID:America/Chicago
BEGIN:DAYLIGHT
TZOFFSETFROM:-0600
TZOFFSETTO:-0500
TZNAME:CDT
DTSTART:20230312T080000
END:DAYLIGHT
BEGIN:STANDARD
TZOFFSETFROM:-0500
TZOFFSETTO:-0600
TZNAME:CST
DTSTART:20231105T070000
END:STANDARD
BEGIN:DAYLIGHT
TZOFFSETFROM:-0600
TZOFFSETTO:-0500
TZNAME:CDT
DTSTART:20240310T080000
END:DAYLIGHT
BEGIN:STANDARD
TZOFFSETFROM:-0500
TZOFFSETTO:-0600
TZNAME:CST
DTSTART:20241103T070000
END:STANDARD
BEGIN:DAYLIGHT
TZOFFSETFROM:-0600
TZOFFSETTO:-0500
TZNAME:CDT
DTSTART:20250309T080000
END:DAYLIGHT
BEGIN:STANDARD
TZOFFSETFROM:-0500
TZOFFSETTO:-0600
TZNAME:CST
DTSTART:20251102T070000
END:STANDARD
END:VTIMEZONE
BEGIN:VEVENT
DTSTART;TZID=America/Chicago:20240417T120000
DTEND;TZID=America/Chicago:20240417T140000
DTSTAMP:20260419T152848
CREATED:20240219T210135Z
LAST-MODIFIED:20240219T210135Z
UID:5951-1713355200-1713362400@rbnc.org
SUMMARY:Lunch & Learn: Dakota County's New Bison Herd
DESCRIPTION:Lunch & Learn: Dakota County’s New Bison Herd \nCost: $10 ($5 for River Bend members).\n \nWednesday\, April 17\, 2024\, 12:00-2:00pm\nTopic: Dakota County’s New Bison Herd: Guest speaker Dakota County Naturalist \nBring your own lunch and join us as we learn about a new topic each month.
URL:https://rbnc.org/event/lunch-learn-dakota-countys-new-bison-herd
LOCATION:River Bend Nature Center\, 1000 Rustad Rd.\, Faribault\, MN\, 55021
GEO:44.2776174;-93.2413536
X-APPLE-STRUCTURED-LOCATION;VALUE=URI;X-ADDRESS=River Bend Nature Center 1000 Rustad Rd. Faribault MN 55021;X-APPLE-RADIUS=500;X-TITLE=1000 Rustad Rd.:geo:-93.2413536,44.2776174
END:VEVENT
BEGIN:VEVENT
DTSTART;TZID=America/Chicago:20240420T100000
DTEND;TZID=America/Chicago:20240420T140000
DTSTAMP:20260419T152848
CREATED:20240219T210249Z
LAST-MODIFIED:20240219T210249Z
UID:5953-1713607200-1713621600@rbnc.org
SUMMARY:Earth Day Celebration!
DESCRIPTION:Earth Day Celebration! \nAll ages. Cost: Free \nSaturday\, April 20\, 2024\, 10:00 am-2:00 pm \nThe Schedule of Events are as follows: \n10:30-11:30 am \n11:30-12:30 pm \nBreak for Lunch – a lite lunch will be provided \n1:00 – 2:00 pm \nThe activities are \n\nInvasive species removal\nHow to make a DIY compost bin demonstration\nUpcycling plastic bags into jump ropes\n\nParticipants can choose what activity they would like to do. Each activity will run for an hour and will be offered three different times.
URL:https://rbnc.org/event/earth-day-celebration-2
LOCATION:River Bend Nature Center\, 1000 Rustad Rd.\, Faribault\, MN\, 55021
GEO:44.2776174;-93.2413536
X-APPLE-STRUCTURED-LOCATION;VALUE=URI;X-ADDRESS=River Bend Nature Center 1000 Rustad Rd. Faribault MN 55021;X-APPLE-RADIUS=500;X-TITLE=1000 Rustad Rd.:geo:-93.2413536,44.2776174
END:VEVENT
END:VCALENDAR