BEGIN:VCALENDAR
VERSION:2.0
PRODID:-//River Bend Nature Center - ECPv6.15.20//NONSGML v1.0//EN
CALSCALE:GREGORIAN
METHOD:PUBLISH
X-WR-CALNAME:River Bend Nature Center
X-ORIGINAL-URL:https://rbnc.org
X-WR-CALDESC:Events for River Bend Nature Center
REFRESH-INTERVAL;VALUE=DURATION:PT1H
X-Robots-Tag:noindex
X-PUBLISHED-TTL:PT1H
BEGIN:VTIMEZONE
TZID:America/Chicago
BEGIN:DAYLIGHT
TZOFFSETFROM:-0600
TZOFFSETTO:-0500
TZNAME:CDT
DTSTART:20210314T080000
END:DAYLIGHT
BEGIN:STANDARD
TZOFFSETFROM:-0500
TZOFFSETTO:-0600
TZNAME:CST
DTSTART:20211107T070000
END:STANDARD
BEGIN:DAYLIGHT
TZOFFSETFROM:-0600
TZOFFSETTO:-0500
TZNAME:CDT
DTSTART:20220313T080000
END:DAYLIGHT
BEGIN:STANDARD
TZOFFSETFROM:-0500
TZOFFSETTO:-0600
TZNAME:CST
DTSTART:20221106T070000
END:STANDARD
BEGIN:DAYLIGHT
TZOFFSETFROM:-0600
TZOFFSETTO:-0500
TZNAME:CDT
DTSTART:20230312T080000
END:DAYLIGHT
BEGIN:STANDARD
TZOFFSETFROM:-0500
TZOFFSETTO:-0600
TZNAME:CST
DTSTART:20231105T070000
END:STANDARD
END:VTIMEZONE
BEGIN:VEVENT
DTSTART;TZID=America/Chicago:20220921T120000
DTEND;TZID=America/Chicago:20220921T140000
DTSTAMP:20260420T030352
CREATED:20220727T212342Z
LAST-MODIFIED:20220727T212342Z
UID:4204-1663761600-1663768800@rbnc.org
SUMMARY:Lunch & Learn: Prairie Seeds and Collection by Matthew Johnson\, River Bend Naturalist
DESCRIPTION:Wednesday\, September 21\, 12pm-2pm (presentation starts at 12:30pm) \nCost: $10 ($5 for River Bend members)\, Open to all ages. \nLearn all about native prairie plants\, then join Matt out in the prairie at River Bend to collect prairie seeds for future use at River Bend.
URL:https://rbnc.org/event/lunch-learn-prairie-seeds-and-collection-by-matthew-johnson-river-bend-naturalist
LOCATION:MINNESOTA
END:VEVENT
BEGIN:VEVENT
DTSTART;TZID=America/Chicago:20220924T090000
DTEND;TZID=America/Chicago:20220924T120000
DTSTAMP:20260420T030352
CREATED:20220726T151359Z
LAST-MODIFIED:20220726T151359Z
UID:4188-1664010000-1664020800@rbnc.org
SUMMARY:National Public Lands Day
DESCRIPTION:National Public Lands Day is the nation’s largest\, single-day volunteer event for public lands\, held annually on the fourth Saturday in September. The next day is September 24\, 2022\, from 9 am-12 pm. Free\, all ages. River Bend Nature Center is unique in that the land is owned by the City of Faribault which has an agreement for River Bend Nature Center to operate it as a nature center.  River Bend is a 501(c)3 nonprofit nature center and depends upon memberships and donations for operations as well as volunteers.  River Bend Nature Center is not a city park but is open for public use.
URL:https://rbnc.org/event/national-public-lands-day
LOCATION:MINNESOTA
END:VEVENT
END:VCALENDAR