BEGIN:VCALENDAR
VERSION:2.0
PRODID:-//River Bend Nature Center - ECPv6.15.20//NONSGML v1.0//EN
CALSCALE:GREGORIAN
METHOD:PUBLISH
X-WR-CALNAME:River Bend Nature Center
X-ORIGINAL-URL:https://rbnc.org
X-WR-CALDESC:Events for River Bend Nature Center
REFRESH-INTERVAL;VALUE=DURATION:PT1H
X-Robots-Tag:noindex
X-PUBLISHED-TTL:PT1H
BEGIN:VTIMEZONE
TZID:America/Chicago
BEGIN:DAYLIGHT
TZOFFSETFROM:-0600
TZOFFSETTO:-0500
TZNAME:CDT
DTSTART:20210314T080000
END:DAYLIGHT
BEGIN:STANDARD
TZOFFSETFROM:-0500
TZOFFSETTO:-0600
TZNAME:CST
DTSTART:20211107T070000
END:STANDARD
BEGIN:DAYLIGHT
TZOFFSETFROM:-0600
TZOFFSETTO:-0500
TZNAME:CDT
DTSTART:20220313T080000
END:DAYLIGHT
BEGIN:STANDARD
TZOFFSETFROM:-0500
TZOFFSETTO:-0600
TZNAME:CST
DTSTART:20221106T070000
END:STANDARD
BEGIN:DAYLIGHT
TZOFFSETFROM:-0600
TZOFFSETTO:-0500
TZNAME:CDT
DTSTART:20230312T080000
END:DAYLIGHT
BEGIN:STANDARD
TZOFFSETFROM:-0500
TZOFFSETTO:-0600
TZNAME:CST
DTSTART:20231105T070000
END:STANDARD
END:VTIMEZONE
BEGIN:VEVENT
DTSTART;TZID=America/Chicago:20220912T130000
DTEND;TZID=America/Chicago:20220912T150000
DTSTAMP:20260419T104242
CREATED:20220825T181322Z
LAST-MODIFIED:20220825T181322Z
UID:4316-1662987600-1662994800@rbnc.org
SUMMARY:Homeschool: Plant Life Cycle
DESCRIPTION:From the prairie to the forest to the wetlands\, plants have many adaptations to make sure they can survive. While exploring River Bend\, learn all about plants and how they reproduce.
URL:https://rbnc.org/event/homeschool-plant-life-cycle
LOCATION:MINNESOTA
END:VEVENT
BEGIN:VEVENT
DTSTART;TZID=America/Chicago:20220913T093000
DTEND;TZID=America/Chicago:20220913T110000
DTSTAMP:20260419T104242
CREATED:20220825T181859Z
LAST-MODIFIED:20220825T181859Z
UID:4318-1663061400-1663066800@rbnc.org
SUMMARY:Little Sprouts: Terrific Turtles and Fabulous Frogs
DESCRIPTION:Little Sprouts is a parent/child class for children from birth through age 5 to learn about and explore the natural world together. Dress for the weather\, as most of the program is held outside. Held on the second and fourth Tuesdays of the month and occasional Saturdays. \n$10/child\, $5/ member child (adults are free)
URL:https://rbnc.org/event/little-sprouts-terrific-turtles-and-fabulous-frogs
LOCATION:MINNESOTA
END:VEVENT
END:VCALENDAR