BEGIN:VCALENDAR
VERSION:2.0
PRODID:-//River Bend Nature Center - ECPv6.15.20//NONSGML v1.0//EN
CALSCALE:GREGORIAN
METHOD:PUBLISH
X-WR-CALNAME:River Bend Nature Center
X-ORIGINAL-URL:https://rbnc.org
X-WR-CALDESC:Events for River Bend Nature Center
REFRESH-INTERVAL;VALUE=DURATION:PT1H
X-Robots-Tag:noindex
X-PUBLISHED-TTL:PT1H
BEGIN:VTIMEZONE
TZID:America/Chicago
BEGIN:DAYLIGHT
TZOFFSETFROM:-0600
TZOFFSETTO:-0500
TZNAME:CDT
DTSTART:20210314T080000
END:DAYLIGHT
BEGIN:STANDARD
TZOFFSETFROM:-0500
TZOFFSETTO:-0600
TZNAME:CST
DTSTART:20211107T070000
END:STANDARD
BEGIN:DAYLIGHT
TZOFFSETFROM:-0600
TZOFFSETTO:-0500
TZNAME:CDT
DTSTART:20220313T080000
END:DAYLIGHT
BEGIN:STANDARD
TZOFFSETFROM:-0500
TZOFFSETTO:-0600
TZNAME:CST
DTSTART:20221106T070000
END:STANDARD
BEGIN:DAYLIGHT
TZOFFSETFROM:-0600
TZOFFSETTO:-0500
TZNAME:CDT
DTSTART:20230312T080000
END:DAYLIGHT
BEGIN:STANDARD
TZOFFSETFROM:-0500
TZOFFSETTO:-0600
TZNAME:CST
DTSTART:20231105T070000
END:STANDARD
END:VTIMEZONE
BEGIN:VEVENT
DTSTART;TZID=America/Chicago:20220908T173000
DTEND;TZID=America/Chicago:20220908T190000
DTSTAMP:20260420T030156
CREATED:20220725T183319Z
LAST-MODIFIED:20220803T200956Z
UID:4176-1662658200-1662663600@rbnc.org
SUMMARY:Adult Night Out: Splatter Paint Archery
DESCRIPTION:Adult Night Out: Splatter Paint Archery\n\nCost: $15/person\, $10/member\nThursday\, September 8\, 2022 from 5:30-7:00pm\nHave an adult night out with anyone special in your life. Learn how to shoot a bow and arrow and get some practice shooting before we add some paint balloons to the target and watch them splatter. Leave with a piece of art created in a one-of-a-kind way. Pre-registration required.
URL:https://rbnc.org/event/adult-night-out-splatter-paint-archery-2
LOCATION:MINNESOTA
END:VEVENT
BEGIN:VEVENT
DTSTART;TZID=America/Chicago:20220909T200000
DTEND;TZID=America/Chicago:20220909T220000
DTSTAMP:20260420T030156
CREATED:20220726T151728Z
LAST-MODIFIED:20220726T151728Z
UID:4190-1662753600-1662760800@rbnc.org
SUMMARY:Forest Therapy Walk
DESCRIPTION:Forest Therapy Walk \nCost: $50/members\, $60/nonmembers \nFriday\, September 9\, 8pm-10pm \nImproved mental health. Lower stress levels. Heightened immune response. Deep gratitude. A renewed connection with creation and Creator. Through a series of invitations designed to boost your senses and evoke discovery\, the ANFT-certified Jerad Morey will guide you on a Forest Therapy Walk. Past participants have called their experience “transformative\,” “meaningful\,” and “spiritual” and reported feelings of refreshment\, relaxation\, and peace.\n\nA Forest Therapy Walk is not an extended hike – you will not be huffing and puffing or racking up your step count – but you will be invited to traverse unpaved and uneven ground. Please bring a full water bottle and dress appropriately for a few hours in the weather including sunscreen\, bug deterrent\, a portable chair or clothes in which you can sit on the ground\, and shoes in which you can walk off-trail.
URL:https://rbnc.org/event/forest-therapy-walk-2
LOCATION:MINNESOTA
END:VEVENT
END:VCALENDAR