BEGIN:VCALENDAR
VERSION:2.0
PRODID:-//River Bend Nature Center - ECPv6.15.20//NONSGML v1.0//EN
CALSCALE:GREGORIAN
METHOD:PUBLISH
X-WR-CALNAME:River Bend Nature Center
X-ORIGINAL-URL:https://rbnc.org
X-WR-CALDESC:Events for River Bend Nature Center
REFRESH-INTERVAL;VALUE=DURATION:PT1H
X-Robots-Tag:noindex
X-PUBLISHED-TTL:PT1H
BEGIN:VTIMEZONE
TZID:America/Chicago
BEGIN:DAYLIGHT
TZOFFSETFROM:-0600
TZOFFSETTO:-0500
TZNAME:CDT
DTSTART:20210314T080000
END:DAYLIGHT
BEGIN:STANDARD
TZOFFSETFROM:-0500
TZOFFSETTO:-0600
TZNAME:CST
DTSTART:20211107T070000
END:STANDARD
BEGIN:DAYLIGHT
TZOFFSETFROM:-0600
TZOFFSETTO:-0500
TZNAME:CDT
DTSTART:20220313T080000
END:DAYLIGHT
BEGIN:STANDARD
TZOFFSETFROM:-0500
TZOFFSETTO:-0600
TZNAME:CST
DTSTART:20221106T070000
END:STANDARD
BEGIN:DAYLIGHT
TZOFFSETFROM:-0600
TZOFFSETTO:-0500
TZNAME:CDT
DTSTART:20230312T080000
END:DAYLIGHT
BEGIN:STANDARD
TZOFFSETFROM:-0500
TZOFFSETTO:-0600
TZNAME:CST
DTSTART:20231105T070000
END:STANDARD
END:VTIMEZONE
BEGIN:VEVENT
DTSTART;VALUE=DATE:20220612
DTEND;VALUE=DATE:20220615
DTSTAMP:20260422T173354
CREATED:20220305T001239Z
LAST-MODIFIED:20220305T001239Z
UID:3886-1655060400-1655233199@rbnc.org
SUMMARY:Summer Camp Meadowlarks (K-2nd) Pond Hoppers
DESCRIPTION:Bring lunch and snacks needed to get through a busy day. Join the River Bend naturalist team for a summer of discovery. Experience all of your favorite camp activities while making memories\, learning new skills\, and exploring nature.  Each camp has limited space available and will be filled on a first-come\, first-served basis. \nUpon completion of registration\, you will receive a confirmation email with an attached information packet including the River Bend liability form and health form. Two weeks before the camp\, you will receive an additional reminder email. Meadowlarks are children entering Kindergarten through second grade in Fall of 2022. \nJune 13-14 Pond hoppers! \nVisit River Bend’s ponds during this two-day camp. Explore what lives in the ponds\, what they eat\, and how they survive. Go on adventures and don’t be afraid to get messy!
URL:https://rbnc.org/event/summer-camp-meadowlarks-k-2nd-pond-hoppers
LOCATION:MINNESOTA
END:VEVENT
END:VCALENDAR