BEGIN:VCALENDAR
VERSION:2.0
PRODID:-//River Bend Nature Center - ECPv6.15.20//NONSGML v1.0//EN
CALSCALE:GREGORIAN
METHOD:PUBLISH
X-WR-CALNAME:River Bend Nature Center
X-ORIGINAL-URL:https://rbnc.org
X-WR-CALDESC:Events for River Bend Nature Center
REFRESH-INTERVAL;VALUE=DURATION:PT1H
X-Robots-Tag:noindex
X-PUBLISHED-TTL:PT1H
BEGIN:VTIMEZONE
TZID:America/Chicago
BEGIN:DAYLIGHT
TZOFFSETFROM:-0600
TZOFFSETTO:-0500
TZNAME:CDT
DTSTART:20210314T080000
END:DAYLIGHT
BEGIN:STANDARD
TZOFFSETFROM:-0500
TZOFFSETTO:-0600
TZNAME:CST
DTSTART:20211107T070000
END:STANDARD
BEGIN:DAYLIGHT
TZOFFSETFROM:-0600
TZOFFSETTO:-0500
TZNAME:CDT
DTSTART:20220313T080000
END:DAYLIGHT
BEGIN:STANDARD
TZOFFSETFROM:-0500
TZOFFSETTO:-0600
TZNAME:CST
DTSTART:20221106T070000
END:STANDARD
BEGIN:DAYLIGHT
TZOFFSETFROM:-0600
TZOFFSETTO:-0500
TZNAME:CDT
DTSTART:20230312T080000
END:DAYLIGHT
BEGIN:STANDARD
TZOFFSETFROM:-0500
TZOFFSETTO:-0600
TZNAME:CST
DTSTART:20231105T070000
END:STANDARD
END:VTIMEZONE
BEGIN:VEVENT
DTSTART;TZID=America/Chicago:20220518T130000
DTEND;TZID=America/Chicago:20220518T143000
DTSTAMP:20260422T173347
CREATED:20220304T232430Z
LAST-MODIFIED:20220304T232430Z
UID:3872-1652878800-1652884200@rbnc.org
SUMMARY:Faribault High School Field Biology Internship Final Projects
DESCRIPTION:Faribault High School Field Biology Internship Final Projects \nBy Faribault High School Field Biology Internship Class\nCost: FREE\, Open to all ages.   May 18\, 6-7:30pm \nCome hear from students who participated in a year-long field biology internship class at River Bend Nature Center. Find out what projects they took on and what they learned.
URL:https://rbnc.org/event/faribault-high-school-field-biology-internship-final-projects
LOCATION:MINNESOTA
END:VEVENT
BEGIN:VEVENT
DTSTART;TZID=America/Chicago:20220521T050000
DTEND;TZID=America/Chicago:20220521T070000
DTSTAMP:20260422T173347
CREATED:20220304T225106Z
LAST-MODIFIED:20220304T225106Z
UID:3853-1653109200-1653116400@rbnc.org
SUMMARY:Build Your Own Pollinator Sanctuary
DESCRIPTION:Build Your Own Pollinator Sanctuary \nCost: $40/members\, $65/nonmembers \nSaturday\, May 21\, 10am-12pm \nPollinators are important players in our everyday lives whether we know it or not. Without them\, we wouldn’t have half the food resources we do. As more land is developed\, they lose their habitat\, but you can help! Create a sanctuary of native plants that will provide them food\, water\, and shelter and bring you everlasting beauty\, enjoyment\, and satisfaction of knowing you are doing your part in keeping these pollinators around. Join Naturalist Katy to learn how simple it can be. The program will include a presentation\, a tour of River Bend’s prairie\,  a take-home guidebook\, and a perennial plant. Pre-registration is required.
URL:https://rbnc.org/event/build-your-own-pollinator-sanctuary
LOCATION:MINNESOTA
END:VEVENT
END:VCALENDAR