BEGIN:VCALENDAR
VERSION:2.0
PRODID:-//River Bend Nature Center - ECPv6.15.20//NONSGML v1.0//EN
CALSCALE:GREGORIAN
METHOD:PUBLISH
X-WR-CALNAME:River Bend Nature Center
X-ORIGINAL-URL:https://rbnc.org
X-WR-CALDESC:Events for River Bend Nature Center
REFRESH-INTERVAL;VALUE=DURATION:PT1H
X-Robots-Tag:noindex
X-PUBLISHED-TTL:PT1H
BEGIN:VTIMEZONE
TZID:America/Chicago
BEGIN:DAYLIGHT
TZOFFSETFROM:-0600
TZOFFSETTO:-0500
TZNAME:CDT
DTSTART:20210314T080000
END:DAYLIGHT
BEGIN:STANDARD
TZOFFSETFROM:-0500
TZOFFSETTO:-0600
TZNAME:CST
DTSTART:20211107T070000
END:STANDARD
BEGIN:DAYLIGHT
TZOFFSETFROM:-0600
TZOFFSETTO:-0500
TZNAME:CDT
DTSTART:20220313T080000
END:DAYLIGHT
BEGIN:STANDARD
TZOFFSETFROM:-0500
TZOFFSETTO:-0600
TZNAME:CST
DTSTART:20221106T070000
END:STANDARD
BEGIN:DAYLIGHT
TZOFFSETFROM:-0600
TZOFFSETTO:-0500
TZNAME:CDT
DTSTART:20230312T080000
END:DAYLIGHT
BEGIN:STANDARD
TZOFFSETFROM:-0500
TZOFFSETTO:-0600
TZNAME:CST
DTSTART:20231105T070000
END:STANDARD
END:VTIMEZONE
BEGIN:VEVENT
DTSTART;TZID=America/Chicago:20220430T040000
DTEND;TZID=America/Chicago:20220430T070000
DTSTAMP:20260422T173341
CREATED:20220304T225727Z
LAST-MODIFIED:20220304T225727Z
UID:3859-1651291200-1651302000@rbnc.org
SUMMARY:Great River Greening Buckthorn Bust
DESCRIPTION:On behalf of River Bend Nature Center\, Great River Greening is hosting a series of restoration events throughout early 2022. The management of invasive species\, accomplished by dedicated volunteers\, helps to enhance and protect the dwarf trout lily habitat\, the surrounding big woods habitat\, and increase biodiversity. \nGreat River Greening- Buckthorn Bust! \nSaturday\, April 30\, 9 am – 12 pm \nBuckthorn is a dense shrub that can overtake a forest floor very quickly and out-compete native foliage. You must pre-register with Great River Greening for this event.
URL:https://rbnc.org/event/great-river-greening-buckthorn-bust-2
LOCATION:MINNESOTA
END:VEVENT
END:VCALENDAR