BEGIN:VCALENDAR
VERSION:2.0
PRODID:-//River Bend Nature Center - ECPv6.15.20//NONSGML v1.0//EN
CALSCALE:GREGORIAN
METHOD:PUBLISH
X-WR-CALNAME:River Bend Nature Center
X-ORIGINAL-URL:https://rbnc.org
X-WR-CALDESC:Events for River Bend Nature Center
REFRESH-INTERVAL;VALUE=DURATION:PT1H
X-Robots-Tag:noindex
X-PUBLISHED-TTL:PT1H
BEGIN:VTIMEZONE
TZID:America/Chicago
BEGIN:DAYLIGHT
TZOFFSETFROM:-0600
TZOFFSETTO:-0500
TZNAME:CDT
DTSTART:20200308T080000
END:DAYLIGHT
BEGIN:STANDARD
TZOFFSETFROM:-0500
TZOFFSETTO:-0600
TZNAME:CST
DTSTART:20201101T070000
END:STANDARD
BEGIN:DAYLIGHT
TZOFFSETFROM:-0600
TZOFFSETTO:-0500
TZNAME:CDT
DTSTART:20210314T080000
END:DAYLIGHT
BEGIN:STANDARD
TZOFFSETFROM:-0500
TZOFFSETTO:-0600
TZNAME:CST
DTSTART:20211107T070000
END:STANDARD
BEGIN:DAYLIGHT
TZOFFSETFROM:-0600
TZOFFSETTO:-0500
TZNAME:CDT
DTSTART:20220313T080000
END:DAYLIGHT
BEGIN:STANDARD
TZOFFSETFROM:-0500
TZOFFSETTO:-0600
TZNAME:CST
DTSTART:20221106T070000
END:STANDARD
END:VTIMEZONE
BEGIN:VEVENT
DTSTART;TZID=America/Chicago:20211222T030000
DTEND;TZID=America/Chicago:20211222T093000
DTSTAMP:20260423T043011
CREATED:20210805T235653Z
LAST-MODIFIED:20210805T235653Z
UID:3513-1640142000-1640165400@rbnc.org
SUMMARY:Adventure Day Winter Break
DESCRIPTION:School is Out Adventure Days are day-long camps open to kindergarten through 5th grade students on days when school’s not in session\, but the craving for adventure and exploration is strong! River Bend’s team of naturalists will provide opportunities for outdoor recreation and activities to interact with\, discover\, and understand nature. \nNEW FOR FALL 2021! PAY WHAT YOU CAN ADVENTURE DAYS!  \nsuggested registration $50 (nonmembers) $40 (members)\n$10 (suggested for before or aftercare)\nor pay what you can
URL:https://rbnc.org/event/adventure-day-winter-break/2021-12-22
LOCATION:MINNESOTA
END:VEVENT
END:VCALENDAR