BEGIN:VCALENDAR
VERSION:2.0
PRODID:-//River Bend Nature Center - ECPv6.15.20//NONSGML v1.0//EN
CALSCALE:GREGORIAN
METHOD:PUBLISH
X-ORIGINAL-URL:https://rbnc.org
X-WR-CALDESC:Events for River Bend Nature Center
REFRESH-INTERVAL;VALUE=DURATION:PT1H
X-Robots-Tag:noindex
X-PUBLISHED-TTL:PT1H
BEGIN:VTIMEZONE
TZID:America/Chicago
BEGIN:DAYLIGHT
TZOFFSETFROM:-0600
TZOFFSETTO:-0500
TZNAME:CDT
DTSTART:20200308T080000
END:DAYLIGHT
BEGIN:STANDARD
TZOFFSETFROM:-0500
TZOFFSETTO:-0600
TZNAME:CST
DTSTART:20201101T070000
END:STANDARD
BEGIN:DAYLIGHT
TZOFFSETFROM:-0600
TZOFFSETTO:-0500
TZNAME:CDT
DTSTART:20210314T080000
END:DAYLIGHT
BEGIN:STANDARD
TZOFFSETFROM:-0500
TZOFFSETTO:-0600
TZNAME:CST
DTSTART:20211107T070000
END:STANDARD
BEGIN:DAYLIGHT
TZOFFSETFROM:-0600
TZOFFSETTO:-0500
TZNAME:CDT
DTSTART:20220313T080000
END:DAYLIGHT
BEGIN:STANDARD
TZOFFSETFROM:-0500
TZOFFSETTO:-0600
TZNAME:CST
DTSTART:20221106T070000
END:STANDARD
END:VTIMEZONE
BEGIN:VEVENT
DTSTART;TZID=America/Chicago:20211119T040000
DTEND;TZID=America/Chicago:20211119T173000
DTSTAMP:20260423T144207
CREATED:20210806T001500Z
LAST-MODIFIED:20210806T001500Z
UID:3526-1637294400-1637343000@rbnc.org
SUMMARY:Science Day Minnesota History
DESCRIPTION:Travel back through time to experience life in pre-colonial Minnesota. Learn about Native American traditions and cultures\, Minnesota’s changing geography\, and humans have impacted the environment. \nRiver Bend Nature Center invites homeschool families\, co-ops\, and distance learners the opportunity to experience all of the seasons at River Bend! On each science day\, two different topics are offered each day. Students can register for one class\, or bring a lunch and stay for both. Science Days are for first through fifth graders.
URL:https://rbnc.org/event/science-day-minnesota-history
LOCATION:MINNESOTA
END:VEVENT
BEGIN:VEVENT
DTSTART;TZID=America/Chicago:20211119T063000
DTEND;TZID=America/Chicago:20211119T080000
DTSTAMP:20260423T144207
CREATED:20210806T001651Z
LAST-MODIFIED:20210806T001651Z
UID:3528-1637303400-1637308800@rbnc.org
SUMMARY:Science Day Nature Art
DESCRIPTION:Use nature as your inspiration to create works of art. Students will have the opportunity to work with different art mediums. River Bend Nature Center invites homeschool families\, co-ops\, and distance learners the opportunity to experience all of the seasons at River Bend! On each science day\, two different topics are offered each day. Students can register for one class\, or bring a lunch and stay for both. Science Days are for first through fifth graders.
URL:https://rbnc.org/event/science-day-nature-art
LOCATION:MINNESOTA
END:VEVENT
END:VCALENDAR