BEGIN:VCALENDAR
VERSION:2.0
PRODID:-//River Bend Nature Center - ECPv6.15.20//NONSGML v1.0//EN
CALSCALE:GREGORIAN
METHOD:PUBLISH
X-WR-CALNAME:River Bend Nature Center
X-ORIGINAL-URL:https://rbnc.org
X-WR-CALDESC:Events for River Bend Nature Center
REFRESH-INTERVAL;VALUE=DURATION:PT1H
X-Robots-Tag:noindex
X-PUBLISHED-TTL:PT1H
BEGIN:VTIMEZONE
TZID:America/Chicago
BEGIN:DAYLIGHT
TZOFFSETFROM:-0600
TZOFFSETTO:-0500
TZNAME:CDT
DTSTART:20200308T080000
END:DAYLIGHT
BEGIN:STANDARD
TZOFFSETFROM:-0500
TZOFFSETTO:-0600
TZNAME:CST
DTSTART:20201101T070000
END:STANDARD
BEGIN:DAYLIGHT
TZOFFSETFROM:-0600
TZOFFSETTO:-0500
TZNAME:CDT
DTSTART:20210314T080000
END:DAYLIGHT
BEGIN:STANDARD
TZOFFSETFROM:-0500
TZOFFSETTO:-0600
TZNAME:CST
DTSTART:20211107T070000
END:STANDARD
BEGIN:DAYLIGHT
TZOFFSETFROM:-0600
TZOFFSETTO:-0500
TZNAME:CDT
DTSTART:20220313T080000
END:DAYLIGHT
BEGIN:STANDARD
TZOFFSETFROM:-0500
TZOFFSETTO:-0600
TZNAME:CST
DTSTART:20221106T070000
END:STANDARD
END:VTIMEZONE
BEGIN:VEVENT
DTSTART;TZID=America/Chicago:20211012T043000
DTEND;TZID=America/Chicago:20211012T060000
DTSTAMP:20260423T175542
CREATED:20210805T214354Z
LAST-MODIFIED:20210805T214354Z
UID:3492-1634013000-1634018400@rbnc.org
SUMMARY:Little Sprouts The Secret of Seeds
DESCRIPTION:On October 12\, explore the many different types of seeds that you see outside this type of year\, and learn how they grow. Little Sprouts is a parent child class\, held on the second and fourth Tuesday of the month\, exploring the natural world. Each week has planned educational activities and nature-play time. Make sure to dress for the weather\, as the class will be mainly outside. Masks are required when inside the building.
URL:https://rbnc.org/event/little-sprouts-the-secret-of-seeds
LOCATION:MINNESOTA
END:VEVENT
BEGIN:VEVENT
DTSTART;TZID=America/Chicago:20211015T050000
DTEND;TZID=America/Chicago:20211015T063000
DTSTAMP:20260423T175542
CREATED:20210805T220315Z
LAST-MODIFIED:20210805T220315Z
UID:3496-1634274000-1634279400@rbnc.org
SUMMARY:Science Day Batty About Bats
DESCRIPTION:Learn all about this “spooky” animal\, from what types are found in Minnesota\, to what they eat and where they live. Your child’s curiosity will take flight! Stay for the afternoon program!
URL:https://rbnc.org/event/science-day-batty-about-bats
LOCATION:MINNESOTA
END:VEVENT
BEGIN:VEVENT
DTSTART;TZID=America/Chicago:20211015T073000
DTEND;TZID=America/Chicago:20211015T090000
DTSTAMP:20260423T175542
CREATED:20210805T220424Z
LAST-MODIFIED:20210805T220424Z
UID:3498-1634283000-1634288400@rbnc.org
SUMMARY:Science Day Forests and Feathers
DESCRIPTION:Learn about the types of trees that grow in Minnesota. Then learn about the birds that migrate through Minnesota in the fall. Go on a scavenger hunt and play fun games to better understand what birds go through during migration.
URL:https://rbnc.org/event/science-day-forests-and-feathers
LOCATION:MINNESOTA
END:VEVENT
END:VCALENDAR