BEGIN:VCALENDAR
VERSION:2.0
PRODID:-//River Bend Nature Center - ECPv6.15.20//NONSGML v1.0//EN
CALSCALE:GREGORIAN
METHOD:PUBLISH
X-WR-CALNAME:River Bend Nature Center
X-ORIGINAL-URL:https://rbnc.org
X-WR-CALDESC:Events for River Bend Nature Center
REFRESH-INTERVAL;VALUE=DURATION:PT1H
X-Robots-Tag:noindex
X-PUBLISHED-TTL:PT1H
BEGIN:VTIMEZONE
TZID:America/Chicago
BEGIN:DAYLIGHT
TZOFFSETFROM:-0600
TZOFFSETTO:-0500
TZNAME:CDT
DTSTART:20170312T080000
END:DAYLIGHT
BEGIN:STANDARD
TZOFFSETFROM:-0500
TZOFFSETTO:-0600
TZNAME:CST
DTSTART:20171105T070000
END:STANDARD
BEGIN:DAYLIGHT
TZOFFSETFROM:-0600
TZOFFSETTO:-0500
TZNAME:CDT
DTSTART:20180311T080000
END:DAYLIGHT
BEGIN:STANDARD
TZOFFSETFROM:-0500
TZOFFSETTO:-0600
TZNAME:CST
DTSTART:20181104T070000
END:STANDARD
BEGIN:DAYLIGHT
TZOFFSETFROM:-0600
TZOFFSETTO:-0500
TZNAME:CDT
DTSTART:20190310T080000
END:DAYLIGHT
BEGIN:STANDARD
TZOFFSETFROM:-0500
TZOFFSETTO:-0600
TZNAME:CST
DTSTART:20191103T070000
END:STANDARD
END:VTIMEZONE
BEGIN:VEVENT
DTSTART;TZID=America/Chicago:20181129T030000
DTEND;TZID=America/Chicago:20181129T050000
DTSTAMP:20260424T210645
CREATED:20181120T000517Z
LAST-MODIFIED:20181120T000517Z
UID:1899-1543460400-1543467600@rbnc.org
SUMMARY:Life-Long Learning Papermaking Holiday Cards
DESCRIPTION:Learn how to recycle paper and make beautiful holiday cards!
URL:https://rbnc.org/event/life-long-learning
LOCATION:MINNESOTA
END:VEVENT
BEGIN:VEVENT
DTSTART;TZID=America/Chicago:20181201T033000
DTEND;TZID=America/Chicago:20181201T043000
DTSTAMP:20260424T210645
CREATED:20181203T234916Z
LAST-MODIFIED:20181203T235432Z
UID:1923-1543635000-1543638600@rbnc.org
SUMMARY:Bagels & Birds
DESCRIPTION:Come join us for breakfast and bird watching at the interpretive center on the first Saturday of the month at 9:30AM.
URL:https://rbnc.org/event/bagels-birds-2
LOCATION:MINNESOTA
END:VEVENT
END:VCALENDAR