BEGIN:VCALENDAR
VERSION:2.0
PRODID:-//River Bend Nature Center - ECPv6.15.20//NONSGML v1.0//EN
CALSCALE:GREGORIAN
METHOD:PUBLISH
X-ORIGINAL-URL:https://rbnc.org
X-WR-CALDESC:Events for River Bend Nature Center
REFRESH-INTERVAL;VALUE=DURATION:PT1H
X-Robots-Tag:noindex
X-PUBLISHED-TTL:PT1H
BEGIN:VTIMEZONE
TZID:America/Chicago
BEGIN:DAYLIGHT
TZOFFSETFROM:-0600
TZOFFSETTO:-0500
TZNAME:CDT
DTSTART:20230312T080000
END:DAYLIGHT
BEGIN:STANDARD
TZOFFSETFROM:-0500
TZOFFSETTO:-0600
TZNAME:CST
DTSTART:20231105T070000
END:STANDARD
BEGIN:DAYLIGHT
TZOFFSETFROM:-0600
TZOFFSETTO:-0500
TZNAME:CDT
DTSTART:20240310T080000
END:DAYLIGHT
BEGIN:STANDARD
TZOFFSETFROM:-0500
TZOFFSETTO:-0600
TZNAME:CST
DTSTART:20241103T070000
END:STANDARD
BEGIN:DAYLIGHT
TZOFFSETFROM:-0600
TZOFFSETTO:-0500
TZNAME:CDT
DTSTART:20250309T080000
END:DAYLIGHT
BEGIN:STANDARD
TZOFFSETFROM:-0500
TZOFFSETTO:-0600
TZNAME:CST
DTSTART:20251102T070000
END:STANDARD
END:VTIMEZONE
BEGIN:VEVENT
DTSTART;TZID=America/Chicago:20240406T140000
DTEND;TZID=America/Chicago:20240406T150000
DTSTAMP:20260419T104504
CREATED:20240129T213338Z
LAST-MODIFIED:20240129T213338Z
UID:5902-1712412000-1712415600@rbnc.org
SUMMARY:Sweet Reads Book Club
DESCRIPTION:Sweet Reads Book Club \nApril Theme: Sustainability \nSaturday\, March  2\, 2024\n2:00 pm – 3:00 pm\nTeens and Adults\nCost: Free! \nBook 1: Rooted: Stories of Life\, Land and a Farming Revolution\, by Sarah Langford \nBook 2: The Conscious Closet: The Revolutionary Guide to Looking Good While Doing Good \nWe’ll meet the 1st Saturday of each month to have a one group discussion on a book. Refreshments provided. Please register by filling out this form. \n 
URL:https://rbnc.org/event/sweet-reads-book-club-3
LOCATION:River Bend Nature Center\, 1000 Rustad Rd.\, Faribault\, MN\, 55021
GEO:44.2776174;-93.2413536
X-APPLE-STRUCTURED-LOCATION;VALUE=URI;X-ADDRESS=River Bend Nature Center 1000 Rustad Rd. Faribault MN 55021;X-APPLE-RADIUS=500;X-TITLE=1000 Rustad Rd.:geo:-93.2413536,44.2776174
END:VEVENT
BEGIN:VEVENT
DTSTART;TZID=America/Chicago:20240408T093000
DTEND;TZID=America/Chicago:20240408T110000
DTSTAMP:20260419T104504
CREATED:20240219T205938Z
LAST-MODIFIED:20240219T205938Z
UID:5947-1712568600-1712574000@rbnc.org
SUMMARY:Little Sprouts: Spiders
DESCRIPTION:Little Sprouts: Spiders \nCost: $10/child\, $5/member\nMonday\, April 8\, 2024\,  9:30am-11am \nCome learn all about spiders and how beneficial they are in nature. Dress for the weather\, as a portion of the class will be outside.
URL:https://rbnc.org/event/little-sprouts-spiders
LOCATION:River Bend Nature Center\, 1000 Rustad Rd.\, Faribault\, MN\, 55021
GEO:44.2776174;-93.2413536
X-APPLE-STRUCTURED-LOCATION;VALUE=URI;X-ADDRESS=River Bend Nature Center 1000 Rustad Rd. Faribault MN 55021;X-APPLE-RADIUS=500;X-TITLE=1000 Rustad Rd.:geo:-93.2413536,44.2776174
END:VEVENT
BEGIN:VEVENT
DTSTART;TZID=America/Chicago:20240408T130000
DTEND;TZID=America/Chicago:20240408T150000
DTSTAMP:20260419T104504
CREATED:20240219T210043Z
LAST-MODIFIED:20240219T210043Z
UID:5949-1712581200-1712588400@rbnc.org
SUMMARY:Homeschool: Water Cycle
DESCRIPTION:Homeschool: Water Cycle \nages 5-12. Cost: $10/person\, $5/member\nMonday\, April 8\, 2024\,  1-3pm \nWater\, water everywhere! Learn about the importance of the water cycle through games and activities!
URL:https://rbnc.org/event/homeschool-water-cycle
LOCATION:River Bend Nature Center\, 1000 Rustad Rd.\, Faribault\, MN\, 55021
GEO:44.2776174;-93.2413536
X-APPLE-STRUCTURED-LOCATION;VALUE=URI;X-ADDRESS=River Bend Nature Center 1000 Rustad Rd. Faribault MN 55021;X-APPLE-RADIUS=500;X-TITLE=1000 Rustad Rd.:geo:-93.2413536,44.2776174
END:VEVENT
BEGIN:VEVENT
DTSTART;TZID=America/Chicago:20240417T120000
DTEND;TZID=America/Chicago:20240417T140000
DTSTAMP:20260419T104504
CREATED:20240219T210135Z
LAST-MODIFIED:20240219T210135Z
UID:5951-1713355200-1713362400@rbnc.org
SUMMARY:Lunch & Learn: Dakota County's New Bison Herd
DESCRIPTION:Lunch & Learn: Dakota County’s New Bison Herd \nCost: $10 ($5 for River Bend members).\n \nWednesday\, April 17\, 2024\, 12:00-2:00pm\nTopic: Dakota County’s New Bison Herd: Guest speaker Dakota County Naturalist \nBring your own lunch and join us as we learn about a new topic each month.
URL:https://rbnc.org/event/lunch-learn-dakota-countys-new-bison-herd
LOCATION:River Bend Nature Center\, 1000 Rustad Rd.\, Faribault\, MN\, 55021
GEO:44.2776174;-93.2413536
X-APPLE-STRUCTURED-LOCATION;VALUE=URI;X-ADDRESS=River Bend Nature Center 1000 Rustad Rd. Faribault MN 55021;X-APPLE-RADIUS=500;X-TITLE=1000 Rustad Rd.:geo:-93.2413536,44.2776174
END:VEVENT
BEGIN:VEVENT
DTSTART;TZID=America/Chicago:20240420T100000
DTEND;TZID=America/Chicago:20240420T140000
DTSTAMP:20260419T104504
CREATED:20240219T210249Z
LAST-MODIFIED:20240219T210249Z
UID:5953-1713607200-1713621600@rbnc.org
SUMMARY:Earth Day Celebration!
DESCRIPTION:Earth Day Celebration! \nAll ages. Cost: Free \nSaturday\, April 20\, 2024\, 10:00 am-2:00 pm \nThe Schedule of Events are as follows: \n10:30-11:30 am \n11:30-12:30 pm \nBreak for Lunch – a lite lunch will be provided \n1:00 – 2:00 pm \nThe activities are \n\nInvasive species removal\nHow to make a DIY compost bin demonstration\nUpcycling plastic bags into jump ropes\n\nParticipants can choose what activity they would like to do. Each activity will run for an hour and will be offered three different times.
URL:https://rbnc.org/event/earth-day-celebration-2
LOCATION:River Bend Nature Center\, 1000 Rustad Rd.\, Faribault\, MN\, 55021
GEO:44.2776174;-93.2413536
X-APPLE-STRUCTURED-LOCATION;VALUE=URI;X-ADDRESS=River Bend Nature Center 1000 Rustad Rd. Faribault MN 55021;X-APPLE-RADIUS=500;X-TITLE=1000 Rustad Rd.:geo:-93.2413536,44.2776174
END:VEVENT
BEGIN:VEVENT
DTSTART;TZID=America/Chicago:20240422T093000
DTEND;TZID=America/Chicago:20240422T110000
DTSTAMP:20260419T104504
CREATED:20240219T210343Z
LAST-MODIFIED:20240219T210343Z
UID:5955-1713778200-1713783600@rbnc.org
SUMMARY:Little Sprouts: Earth Day
DESCRIPTION:Little Sprouts: Earth Day \nCost: $10/child\, $5/member\nMonday\, April 22\, 2024\,  9:30am-11am \nGet inspired for earth day with fun\, hands-on activities! Dress for the weather\, as a portion of the class will be outside.
URL:https://rbnc.org/event/little-sprouts-earth-day
LOCATION:River Bend Nature Center\, 1000 Rustad Rd.\, Faribault\, MN\, 55021
GEO:44.2776174;-93.2413536
X-APPLE-STRUCTURED-LOCATION;VALUE=URI;X-ADDRESS=River Bend Nature Center 1000 Rustad Rd. Faribault MN 55021;X-APPLE-RADIUS=500;X-TITLE=1000 Rustad Rd.:geo:-93.2413536,44.2776174
END:VEVENT
END:VCALENDAR