BEGIN:VCALENDAR
VERSION:2.0
PRODID:-//River Bend Nature Center - ECPv6.15.20//NONSGML v1.0//EN
CALSCALE:GREGORIAN
METHOD:PUBLISH
X-ORIGINAL-URL:https://rbnc.org
X-WR-CALDESC:Events for River Bend Nature Center
REFRESH-INTERVAL;VALUE=DURATION:PT1H
X-Robots-Tag:noindex
X-PUBLISHED-TTL:PT1H
BEGIN:VTIMEZONE
TZID:America/Chicago
BEGIN:DAYLIGHT
TZOFFSETFROM:-0600
TZOFFSETTO:-0500
TZNAME:CDT
DTSTART:20230312T080000
END:DAYLIGHT
BEGIN:STANDARD
TZOFFSETFROM:-0500
TZOFFSETTO:-0600
TZNAME:CST
DTSTART:20231105T070000
END:STANDARD
BEGIN:DAYLIGHT
TZOFFSETFROM:-0600
TZOFFSETTO:-0500
TZNAME:CDT
DTSTART:20240310T080000
END:DAYLIGHT
BEGIN:STANDARD
TZOFFSETFROM:-0500
TZOFFSETTO:-0600
TZNAME:CST
DTSTART:20241103T070000
END:STANDARD
BEGIN:DAYLIGHT
TZOFFSETFROM:-0600
TZOFFSETTO:-0500
TZNAME:CDT
DTSTART:20250309T080000
END:DAYLIGHT
BEGIN:STANDARD
TZOFFSETFROM:-0500
TZOFFSETTO:-0600
TZNAME:CST
DTSTART:20251102T070000
END:STANDARD
END:VTIMEZONE
BEGIN:VEVENT
DTSTART;TZID=America/Chicago:20240302T140000
DTEND;TZID=America/Chicago:20240302T150000
DTSTAMP:20260419T104547
CREATED:20240129T213149Z
LAST-MODIFIED:20240129T213149Z
UID:5900-1709388000-1709391600@rbnc.org
SUMMARY:Sweet Reads Book Club
DESCRIPTION:Sweet Reads Book Club \nMarch Theme: Climate Change \nSaturday\, March  2\, 2024\n2:00 pm – 3:00 pm\nTeens and Adults\nCost: Free! \nBook 1: A Guide on Climate Optimism and Environmental Sustainability \nBook 2: Memory of Water by Emmi Itäranta \nWe’ll meet the 1st Saturday of each month to have a one group discussion on a book. Refreshments provided. Please register by filling out this form. \n 
URL:https://rbnc.org/event/sweet-reads-book-club-2
LOCATION:River Bend Nature Center\, 1000 Rustad Rd.\, Faribault\, MN\, 55021
GEO:44.2776174;-93.2413536
X-APPLE-STRUCTURED-LOCATION;VALUE=URI;X-ADDRESS=River Bend Nature Center 1000 Rustad Rd. Faribault MN 55021;X-APPLE-RADIUS=500;X-TITLE=1000 Rustad Rd.:geo:-93.2413536,44.2776174
END:VEVENT
BEGIN:VEVENT
DTSTART;TZID=America/Chicago:20240311T093000
DTEND;TZID=America/Chicago:20240311T110000
DTSTAMP:20260419T104547
CREATED:20240219T203817Z
LAST-MODIFIED:20240219T203817Z
UID:5931-1710149400-1710154800@rbnc.org
SUMMARY:Little Sprouts: Maple Trees & Sap
DESCRIPTION:Little Sprouts: Maple Trees and Sap \nCost: $10/child\, $5/member\nMonday\, March 11\, 2024\,  9:30am-11am \nWhere do we get tasty Maple Syrup from? Maple trees! In this class\, we’ll learn about maple sap and what it’s used for. Dress for the weather\, as a portion of the class will be outside.
URL:https://rbnc.org/event/little-sprouts-maple-trees-sap
LOCATION:River Bend Nature Center\, 1000 Rustad Rd.\, Faribault\, MN\, 55021
GEO:44.2776174;-93.2413536
X-APPLE-STRUCTURED-LOCATION;VALUE=URI;X-ADDRESS=River Bend Nature Center 1000 Rustad Rd. Faribault MN 55021;X-APPLE-RADIUS=500;X-TITLE=1000 Rustad Rd.:geo:-93.2413536,44.2776174
END:VEVENT
BEGIN:VEVENT
DTSTART;TZID=America/Chicago:20240311T130000
DTEND;TZID=America/Chicago:20240311T150000
DTSTAMP:20260419T104547
CREATED:20240219T204423Z
LAST-MODIFIED:20240219T204423Z
UID:5937-1710162000-1710169200@rbnc.org
SUMMARY:Homeschool: Geology
DESCRIPTION:Homeschool: Geology \nages 5-12. Cost: $10/person\, $5/member\nMonday\, March 11\, 2024\,  1-3pm \nGeology rocks! Learn all about rocks and minerals and how scientists learn about what happened millions of years ago.
URL:https://rbnc.org/event/homeschool-geology
LOCATION:River Bend Nature Center\, 1000 Rustad Rd.\, Faribault\, MN\, 55021
GEO:44.2776174;-93.2413536
X-APPLE-STRUCTURED-LOCATION;VALUE=URI;X-ADDRESS=River Bend Nature Center 1000 Rustad Rd. Faribault MN 55021;X-APPLE-RADIUS=500;X-TITLE=1000 Rustad Rd.:geo:-93.2413536,44.2776174
END:VEVENT
BEGIN:VEVENT
DTSTART;TZID=America/Chicago:20240316T103000
DTEND;TZID=America/Chicago:20240316T113000
DTSTAMP:20260419T104547
CREATED:20240219T205335Z
LAST-MODIFIED:20240219T205335Z
UID:5939-1710585000-1710588600@rbnc.org
SUMMARY:Maple Syruping
DESCRIPTION:Maple Syruping \nAll Ages. Cost: (FREE for members) $5/person\, $15/family  * a family is 2 adults and 4 kids under 18\nSaturday\, March 16\, 2024\,  10:30-11:30am  &  12:30-1:30pm \nTuesday\, March 26\, 2024\, 10:30-11:30am  &  12:30-1:30pm \nThursday\, March 28\, 2024\, 10:30-11:30am  &  12:30-1:30pm \nMaple syruping is a tradition that dates back to the first nations that lived in this area. Learn about the history of maple syruping\, what makes the sap flow\, and the process of turning sap into syrup through hands-on syruping experience.
URL:https://rbnc.org/event/maple-syruping-4/2024-03-16
LOCATION:River Bend Nature Center\, 1000 Rustad Rd.\, Faribault\, MN\, 55021
GEO:44.2776174;-93.2413536
X-APPLE-STRUCTURED-LOCATION;VALUE=URI;X-ADDRESS=River Bend Nature Center 1000 Rustad Rd. Faribault MN 55021;X-APPLE-RADIUS=500;X-TITLE=1000 Rustad Rd.:geo:-93.2413536,44.2776174
END:VEVENT
BEGIN:VEVENT
DTSTART;TZID=America/Chicago:20240320T120000
DTEND;TZID=America/Chicago:20240320T140000
DTSTAMP:20260419T104547
CREATED:20240219T205452Z
LAST-MODIFIED:20240219T205452Z
UID:5945-1710936000-1710943200@rbnc.org
SUMMARY:Lunch & Learn: Twin Cities Coyote & Fox Project
DESCRIPTION:Lunch & Learn: Twin Cities Coyote & Fox Project \nCost: $10; $5 for River Bend members.\n \nWednesday\, March 20\, 2024\, 12:00-2:00pm\nTopic: Twin Cities Coyote & Fox Project with guest speaker Geoff Miller \nBring your own lunch and join us as we learn about a new topic each month.
URL:https://rbnc.org/event/lunch-learn-twin-cities-coyote-fox-project
LOCATION:River Bend Nature Center\, 1000 Rustad Rd.\, Faribault\, MN\, 55021
GEO:44.2776174;-93.2413536
X-APPLE-STRUCTURED-LOCATION;VALUE=URI;X-ADDRESS=River Bend Nature Center 1000 Rustad Rd. Faribault MN 55021;X-APPLE-RADIUS=500;X-TITLE=1000 Rustad Rd.:geo:-93.2413536,44.2776174
END:VEVENT
END:VCALENDAR