BEGIN:VCALENDAR
VERSION:2.0
PRODID:-//River Bend Nature Center - ECPv6.15.20//NONSGML v1.0//EN
CALSCALE:GREGORIAN
METHOD:PUBLISH
X-WR-CALNAME:River Bend Nature Center
X-ORIGINAL-URL:https://rbnc.org
X-WR-CALDESC:Events for River Bend Nature Center
REFRESH-INTERVAL;VALUE=DURATION:PT1H
X-Robots-Tag:noindex
X-PUBLISHED-TTL:PT1H
BEGIN:VTIMEZONE
TZID:America/Chicago
BEGIN:DAYLIGHT
TZOFFSETFROM:-0600
TZOFFSETTO:-0500
TZNAME:CDT
DTSTART:20230312T080000
END:DAYLIGHT
BEGIN:STANDARD
TZOFFSETFROM:-0500
TZOFFSETTO:-0600
TZNAME:CST
DTSTART:20231105T070000
END:STANDARD
BEGIN:DAYLIGHT
TZOFFSETFROM:-0600
TZOFFSETTO:-0500
TZNAME:CDT
DTSTART:20240310T080000
END:DAYLIGHT
BEGIN:STANDARD
TZOFFSETFROM:-0500
TZOFFSETTO:-0600
TZNAME:CST
DTSTART:20241103T070000
END:STANDARD
BEGIN:DAYLIGHT
TZOFFSETFROM:-0600
TZOFFSETTO:-0500
TZNAME:CDT
DTSTART:20250309T080000
END:DAYLIGHT
BEGIN:STANDARD
TZOFFSETFROM:-0500
TZOFFSETTO:-0600
TZNAME:CST
DTSTART:20251102T070000
END:STANDARD
END:VTIMEZONE
BEGIN:VEVENT
DTSTART;TZID=America/Chicago:20240106T110000
DTEND;TZID=America/Chicago:20240106T120000
DTSTAMP:20260419T183129
CREATED:20230914T150513Z
LAST-MODIFIED:20230914T150513Z
UID:5594-1704538800-1704542400@rbnc.org
SUMMARY:"Hoppy New Year!" Storytime with Harry Hopper
DESCRIPTION:“Hoppy New Year!” Storytime with Harry Hopper \nCelebrate the new year with animal ambassador\, Harry Hopper. Learn what makes the Grey Tree Frog a cool animal! \nFree for all ages   .   Saturday\, January 6   .   11:00-12:00 pm
URL:https://rbnc.org/event/hoppy-new-year-storytime-with-harry-hopper
LOCATION:River Bend Nature Center\, 1000 Rustad Rd.\, Faribault\, MN\, 55021
GEO:44.2776174;-93.2413536
X-APPLE-STRUCTURED-LOCATION;VALUE=URI;X-ADDRESS=River Bend Nature Center 1000 Rustad Rd. Faribault MN 55021;X-APPLE-RADIUS=500;X-TITLE=1000 Rustad Rd.:geo:-93.2413536,44.2776174
END:VEVENT
BEGIN:VEVENT
DTSTART;TZID=America/Chicago:20240108T130000
DTEND;TZID=America/Chicago:20240108T150000
DTSTAMP:20260419T183129
CREATED:20230913T185356Z
LAST-MODIFIED:20230913T185356Z
UID:5580-1704718800-1704726000@rbnc.org
SUMMARY:Homeschool: Kitchen Science
DESCRIPTION:Homeschool: Kitchen Science \nKitchen science will be filled full of fun experiments using safe ingredients found in your kitchen. Prepare to get a little messy and have lots of fun! \nMonday\, January 8\, 2024\n1pm-3pm\, K-5th Grade\nCost: $10/person\, $5/member
URL:https://rbnc.org/event/homeschool-kitchen-science
LOCATION:River Bend Nature Center\, 1000 Rustad Rd.\, Faribault\, MN\, 55021
GEO:44.2776174;-93.2413536
X-APPLE-STRUCTURED-LOCATION;VALUE=URI;X-ADDRESS=River Bend Nature Center 1000 Rustad Rd. Faribault MN 55021;X-APPLE-RADIUS=500;X-TITLE=1000 Rustad Rd.:geo:-93.2413536,44.2776174
END:VEVENT
BEGIN:VEVENT
DTSTART;TZID=America/Chicago:20240120T110000
DTEND;TZID=America/Chicago:20240120T120000
DTSTAMP:20260419T183129
CREATED:20230914T152114Z
LAST-MODIFIED:20230914T152353Z
UID:5596-1705748400-1705752000@rbnc.org
SUMMARY:Turtley Awesome Storytime with Orwin!
DESCRIPTION:Turtley Awesome Storytime with Orwin! \nHave a turtley awesome day with animal ambassador\, Orwin. Learn what makes the Painted Turtle a cool animal! \nFree for all ages   .   Saturday\, January 20   .   11:00-12:00 pm
URL:https://rbnc.org/event/turtley-awesome-storytime-with-orwin
LOCATION:River Bend Nature Center\, 1000 Rustad Rd.\, Faribault\, MN\, 55021
GEO:44.2776174;-93.2413536
X-APPLE-STRUCTURED-LOCATION;VALUE=URI;X-ADDRESS=River Bend Nature Center 1000 Rustad Rd. Faribault MN 55021;X-APPLE-RADIUS=500;X-TITLE=1000 Rustad Rd.:geo:-93.2413536,44.2776174
END:VEVENT
END:VCALENDAR