BEGIN:VCALENDAR
VERSION:2.0
PRODID:-//River Bend Nature Center - ECPv6.15.20//NONSGML v1.0//EN
CALSCALE:GREGORIAN
METHOD:PUBLISH
X-WR-CALNAME:River Bend Nature Center
X-ORIGINAL-URL:https://rbnc.org
X-WR-CALDESC:Events for River Bend Nature Center
REFRESH-INTERVAL;VALUE=DURATION:PT1H
X-Robots-Tag:noindex
X-PUBLISHED-TTL:PT1H
BEGIN:VTIMEZONE
TZID:America/Chicago
BEGIN:DAYLIGHT
TZOFFSETFROM:-0600
TZOFFSETTO:-0500
TZNAME:CDT
DTSTART:20170312T080000
END:DAYLIGHT
BEGIN:STANDARD
TZOFFSETFROM:-0500
TZOFFSETTO:-0600
TZNAME:CST
DTSTART:20171105T070000
END:STANDARD
BEGIN:DAYLIGHT
TZOFFSETFROM:-0600
TZOFFSETTO:-0500
TZNAME:CDT
DTSTART:20180311T080000
END:DAYLIGHT
BEGIN:STANDARD
TZOFFSETFROM:-0500
TZOFFSETTO:-0600
TZNAME:CST
DTSTART:20181104T070000
END:STANDARD
BEGIN:DAYLIGHT
TZOFFSETFROM:-0600
TZOFFSETTO:-0500
TZNAME:CDT
DTSTART:20190310T080000
END:DAYLIGHT
BEGIN:STANDARD
TZOFFSETFROM:-0500
TZOFFSETTO:-0600
TZNAME:CST
DTSTART:20191103T070000
END:STANDARD
END:VTIMEZONE
BEGIN:VEVENT
DTSTART;TZID=America/Chicago:20180714T050000
DTEND;TZID=America/Chicago:20180714T060000
DTSTAMP:20260425T110433
CREATED:20180706T022113Z
LAST-MODIFIED:20180706T022113Z
UID:1354-1531544400-1531548000@rbnc.org
SUMMARY:Animal Ambassadors: Meet the Animal Ambassadors!
DESCRIPTION:Join us for a very special Animal Ambassadors program where you will get to learn about\, meet\, and even touch ALL of our Animal Ambassadors! You’ll experience a turtle’s shell\, a salamander’s skin\, and even get to see our bull snake eat her lunch. $5/person\, $15/family ($3/member\, $10/member family)
URL:https://rbnc.org/event/animal-ambassadors-meet-the-animal-ambassadors
LOCATION:River Bend Nature Center\, 1000 Rustad Rd.\, Faribault\, MN\, 55021
GEO:44.2776174;-93.2413536
X-APPLE-STRUCTURED-LOCATION;VALUE=URI;X-ADDRESS=River Bend Nature Center 1000 Rustad Rd. Faribault MN 55021;X-APPLE-RADIUS=500;X-TITLE=1000 Rustad Rd.:geo:-93.2413536,44.2776174
END:VEVENT
BEGIN:VEVENT
DTSTART;TZID=America/Chicago:20181121T060000
DTEND;TZID=America/Chicago:20181121T080000
DTSTAMP:20260425T110433
CREATED:20181108T034904Z
LAST-MODIFIED:20181120T013935Z
UID:1774-1542780000-1542787200@rbnc.org
SUMMARY:OWLS Lunch & Learn November
DESCRIPTION:Mader Farms Wetland Restoration \nFrom 2014 – Februrary 2018\, the Mader farm in Minnetrista on the western edge of Hennepin County underwent a restoration process from being 41 acres of tiled agriculture land to returning to its natural wetlands. It is the first and only certified wetlands credit bank restoration project in the Minnehaha Creek Watershed District. Packy shares the rewards and frustrations of going through the rigorous process which involved years of engineering\, berm construction\, dealing with invasive plant species\, planting native sedges\, grasses\, and wildflowers\, and even the financial costs and benefits
URL:https://rbnc.org/event/owls-mader-farms-wetland-restoration
LOCATION:River Bend Nature Center\, 1000 Rustad Rd.\, Faribault\, MN\, 55021
GEO:44.2776174;-93.2413536
X-APPLE-STRUCTURED-LOCATION;VALUE=URI;X-ADDRESS=River Bend Nature Center 1000 Rustad Rd. Faribault MN 55021;X-APPLE-RADIUS=500;X-TITLE=1000 Rustad Rd.:geo:-93.2413536,44.2776174
END:VEVENT
END:VCALENDAR