BEGIN:VCALENDAR
VERSION:2.0
PRODID:-//River Bend Nature Center - ECPv6.15.20//NONSGML v1.0//EN
CALSCALE:GREGORIAN
METHOD:PUBLISH
X-WR-CALNAME:River Bend Nature Center
X-ORIGINAL-URL:https://rbnc.org
X-WR-CALDESC:Events for River Bend Nature Center
REFRESH-INTERVAL;VALUE=DURATION:PT1H
X-Robots-Tag:noindex
X-PUBLISHED-TTL:PT1H
BEGIN:VTIMEZONE
TZID:America/Chicago
BEGIN:DAYLIGHT
TZOFFSETFROM:-0600
TZOFFSETTO:-0500
TZNAME:CDT
DTSTART:20210314T080000
END:DAYLIGHT
BEGIN:STANDARD
TZOFFSETFROM:-0500
TZOFFSETTO:-0600
TZNAME:CST
DTSTART:20211107T070000
END:STANDARD
BEGIN:DAYLIGHT
TZOFFSETFROM:-0600
TZOFFSETTO:-0500
TZNAME:CDT
DTSTART:20220313T080000
END:DAYLIGHT
BEGIN:STANDARD
TZOFFSETFROM:-0500
TZOFFSETTO:-0600
TZNAME:CST
DTSTART:20221106T070000
END:STANDARD
BEGIN:DAYLIGHT
TZOFFSETFROM:-0600
TZOFFSETTO:-0500
TZNAME:CDT
DTSTART:20230312T080000
END:DAYLIGHT
BEGIN:STANDARD
TZOFFSETFROM:-0500
TZOFFSETTO:-0600
TZNAME:CST
DTSTART:20231105T070000
END:STANDARD
BEGIN:DAYLIGHT
TZOFFSETFROM:-0600
TZOFFSETTO:-0500
TZNAME:CDT
DTSTART:20240310T080000
END:DAYLIGHT
BEGIN:STANDARD
TZOFFSETFROM:-0500
TZOFFSETTO:-0600
TZNAME:CST
DTSTART:20241103T070000
END:STANDARD
END:VTIMEZONE
BEGIN:VEVENT
DTSTART;TZID=America/Chicago:20221210T093000
DTEND;TZID=America/Chicago:20221210T110000
DTSTAMP:20260424T082154
CREATED:20220826T174642Z
LAST-MODIFIED:20220826T174642Z
UID:4344-1670664600-1670670000@rbnc.org
SUMMARY:Little Sprouts: Animal Signs
DESCRIPTION:Little Sprouts is a parent/child class for children from birth through 5 years old. There are planned educational exploration activities with a different theme each week. Dress for the weather\, as most of the class will be outside. Classes are held on the 2nd and 4th Tuesday of the month from 9:30-11 am unless otherwise noted. \nCost: $10/child\, $5/member child
URL:https://rbnc.org/event/little-sprouts-animal-signs-2
LOCATION:MINNESOTA
END:VEVENT
BEGIN:VEVENT
DTSTART;TZID=America/Chicago:20221212T130000
DTEND;TZID=America/Chicago:20221212T150000
DTSTAMP:20260424T082154
CREATED:20220826T174236Z
LAST-MODIFIED:20220826T174236Z
UID:4342-1670850000-1670857200@rbnc.org
SUMMARY:Homeschool: How do Animals Survive Winter?
DESCRIPTION:Animals have different ways of surviving as the weather gets colder. Come play some games and learn about these different adaptations. Ages 5-12 years old. $10/child
URL:https://rbnc.org/event/homeschool-how-do-animals-survive-winter
LOCATION:MINNESOTA
END:VEVENT
BEGIN:VEVENT
DTSTART;TZID=America/Chicago:20221213T093000
DTEND;TZID=America/Chicago:20221213T110000
DTSTAMP:20260424T082154
CREATED:20220826T173418Z
LAST-MODIFIED:20220826T173418Z
UID:4340-1670923800-1670929200@rbnc.org
SUMMARY:Little Sprouts: Snow Fun
DESCRIPTION:Little Sprouts is an adult/child class for children from birth through 5 years old. There are planned educational exploration activities with a different theme each week. Dress for the weather\, as most of the class will be outside. \nClasses are held on the 2nd and 4th Tuesday of the month from 9:30-11 am unless otherwise noted. \nCost: $10/child\, $5/member child
URL:https://rbnc.org/event/little-sprouts-snow-fun
LOCATION:MINNESOTA
END:VEVENT
BEGIN:VEVENT
DTSTART;TZID=America/Chicago:20221214T120000
DTEND;TZID=America/Chicago:20221214T140000
DTSTAMP:20260424T082154
CREATED:20220728T140226Z
LAST-MODIFIED:20220728T140226Z
UID:4208-1671019200-1671026400@rbnc.org
SUMMARY:Lunch & Learn: Wetland Conservation by Dusty Dienst\, RBNC President
DESCRIPTION:Lunch & Learn: Wetland Conservation by Dusty Dienst\, RBNC President \nWednesday\, December 14\, 12-2pm \nCost: $10 ($5 for River Bend members)\, Open to all ages.
URL:https://rbnc.org/event/lunch-learn-wetland-conservation-by-dusty-dienst-rbnc-president
LOCATION:MINNESOTA
END:VEVENT
BEGIN:VEVENT
DTSTART;TZID=America/Chicago:20221217T113000
DTEND;TZID=America/Chicago:20221217T123000
DTSTAMP:20260424T082154
CREATED:20220725T205238Z
LAST-MODIFIED:20220725T205238Z
UID:4184-1671276600-1671280200@rbnc.org
SUMMARY:Citizen Science Bird ID
DESCRIPTION:Citizen Science Bird ID\nSaturday\, December 17\, 11:30am-12:30pm\nall ages\, Cost: $5 members/ $10 nonmembers\nLearn how to identify birds that visit the feeders and help record them as part of a larger citizen science project.
URL:https://rbnc.org/event/citizen-science-bird-id
LOCATION:MINNESOTA
END:VEVENT
BEGIN:VEVENT
DTSTART;TZID=America/Chicago:20230106T180000
DTEND;TZID=America/Chicago:20230106T200000
DTSTAMP:20260424T082154
CREATED:20220928T210046Z
LAST-MODIFIED:20220928T210046Z
UID:4381-1673028000-1673035200@rbnc.org
SUMMARY:Full Moon Luminary Snowshoe/Hike
DESCRIPTION:Enjoy the full moon with a luminary hike through River Bend. Trails are packed snow\, participants are welcome to bring their own snowshoes. Please pre-register for an entry time. \nCost: $10/member\, $15/member with rental;  \n$15/non-members\, $20/non-members with rental; 5 & under free. 
URL:https://rbnc.org/event/full-moon-luminary-snowshoe-hike
LOCATION:MINNESOTA
END:VEVENT
BEGIN:VEVENT
DTSTART;TZID=America/Chicago:20230107T100000
DTEND;TZID=America/Chicago:20230107T110000
DTSTAMP:20260424T082154
CREATED:20220928T210740Z
LAST-MODIFIED:20220928T210740Z
UID:4385-1673085600-1673089200@rbnc.org
SUMMARY:Bagels & Birds
DESCRIPTION:Bagels and Birds \nFree program on the first Saturday of the month. Join us for bagels while watching birds through the windows on the wild viewing area.
URL:https://rbnc.org/event/bagels-birds-9
LOCATION:MINNESOTA
END:VEVENT
BEGIN:VEVENT
DTSTART;TZID=America/Chicago:20230107T123000
DTEND;TZID=America/Chicago:20230107T133000
DTSTAMP:20260424T082154
CREATED:20220928T211025Z
LAST-MODIFIED:20220928T211025Z
UID:4387-1673094600-1673098200@rbnc.org
SUMMARY:Animal Tracking
DESCRIPTION:Join a River Bend Naturalist on a hike to look for and learn different animal tracks. \n 
URL:https://rbnc.org/event/animal-tracking
LOCATION:MINNESOTA
END:VEVENT
BEGIN:VEVENT
DTSTART;TZID=America/Chicago:20230109T130000
DTEND;TZID=America/Chicago:20230109T150000
DTSTAMP:20260424T082154
CREATED:20220928T211505Z
LAST-MODIFIED:20220928T211505Z
UID:4389-1673269200-1673276400@rbnc.org
SUMMARY:Homeschool Survival
DESCRIPTION:Do you know what to do if you’re lost in the woods? Come learn about all of the safety and survival techniques you need to know for your next excursion into the wild.
URL:https://rbnc.org/event/homeschool-survival
LOCATION:MINNESOTA
END:VEVENT
BEGIN:VEVENT
DTSTART;TZID=America/Chicago:20230110T093000
DTEND;TZID=America/Chicago:20230110T110000
DTSTAMP:20260424T082154
CREATED:20220929T143437Z
LAST-MODIFIED:20220929T143437Z
UID:4391-1673343000-1673348400@rbnc.org
SUMMARY:Little Sprouts: Clouds\, Snow\, and Ice
DESCRIPTION:Little Sprouts (Parent/child class for ages birth-5. ($5/member\, $10 for non-members) \nLittle Sprouts is a parent/child class for children from birth through 5 years old. There are planned educational exploration activities with a different theme each week. Dress for the weather\, as some of the class will be outside.
URL:https://rbnc.org/event/little-sprouts-clouds-snow-and-ice
LOCATION:MINNESOTA
END:VEVENT
END:VCALENDAR