BEGIN:VCALENDAR
VERSION:2.0
PRODID:-//River Bend Nature Center - ECPv6.15.20//NONSGML v1.0//EN
CALSCALE:GREGORIAN
METHOD:PUBLISH
X-WR-CALNAME:River Bend Nature Center
X-ORIGINAL-URL:https://rbnc.org
X-WR-CALDESC:Events for River Bend Nature Center
REFRESH-INTERVAL;VALUE=DURATION:PT1H
X-Robots-Tag:noindex
X-PUBLISHED-TTL:PT1H
BEGIN:VTIMEZONE
TZID:America/Chicago
BEGIN:DAYLIGHT
TZOFFSETFROM:-0600
TZOFFSETTO:-0500
TZNAME:CDT
DTSTART:20250309T080000
END:DAYLIGHT
BEGIN:STANDARD
TZOFFSETFROM:-0500
TZOFFSETTO:-0600
TZNAME:CST
DTSTART:20251102T070000
END:STANDARD
BEGIN:DAYLIGHT
TZOFFSETFROM:-0600
TZOFFSETTO:-0500
TZNAME:CDT
DTSTART:20260308T080000
END:DAYLIGHT
BEGIN:STANDARD
TZOFFSETFROM:-0500
TZOFFSETTO:-0600
TZNAME:CST
DTSTART:20261101T070000
END:STANDARD
BEGIN:DAYLIGHT
TZOFFSETFROM:-0600
TZOFFSETTO:-0500
TZNAME:CDT
DTSTART:20270314T080000
END:DAYLIGHT
BEGIN:STANDARD
TZOFFSETFROM:-0500
TZOFFSETTO:-0600
TZNAME:CST
DTSTART:20271107T070000
END:STANDARD
END:VTIMEZONE
BEGIN:VEVENT
DTSTART;TZID=America/Chicago:20260723T170000
DTEND;TZID=America/Chicago:20260723T190000
DTSTAMP:20260422T165843
CREATED:20260303T220227Z
LAST-MODIFIED:20260303T220227Z
UID:7707-1784826000-1784833200@rbnc.org
SUMMARY:Annual Meeting
DESCRIPTION:Annual Meeting\nFree \nAll RBNC members encouraged to attend \nThursday\, July 23\,  5:00pm-7:00pm \nRiver Bend Members and the general public are welcome to attend our annual meeting. There will be a presentation on activities that happened over the past year. Then members will vote for new board members. \nRegister Here
URL:https://rbnc.org/event/annual-meeting
LOCATION:River Bend Nature Center\, 1000 Rustad Rd.\, Faribault\, MN\, 55021
GEO:44.2776174;-93.2413536
X-APPLE-STRUCTURED-LOCATION;VALUE=URI;X-ADDRESS=River Bend Nature Center 1000 Rustad Rd. Faribault MN 55021;X-APPLE-RADIUS=500;X-TITLE=1000 Rustad Rd.:geo:-93.2413536,44.2776174
END:VEVENT
BEGIN:VEVENT
DTSTART;TZID=America/Chicago:20260727T090000
DTEND;TZID=America/Chicago:20260728T160000
DTSTAMP:20260422T165843
CREATED:20260303T212942Z
LAST-MODIFIED:20260303T212942Z
UID:7701-1785142800-1785254400@rbnc.org
SUMMARY:Explorers K-2nd Grade
DESCRIPTION:Explorers K-2nd Grade\nMonday & Tuesday\, July 27th & 28th \n9:00 am – 4:00 pm \nAre you ready to explore River Bend? Discover the different habitats around the nature center and try to catch a glimpse of the animals that live there. \nDrop-off and pick-up at the main interpretive center \nIf you have questions\, you can call 507-332-7151 or email camp@rbnc.org \nRegister Here
URL:https://rbnc.org/event/explorers-k-2nd-grade
LOCATION:River Bend Nature Center\, 1000 Rustad Rd.\, Faribault\, MN\, 55021
GEO:44.2776174;-93.2413536
X-APPLE-STRUCTURED-LOCATION;VALUE=URI;X-ADDRESS=River Bend Nature Center 1000 Rustad Rd. Faribault MN 55021;X-APPLE-RADIUS=500;X-TITLE=1000 Rustad Rd.:geo:-93.2413536,44.2776174
END:VEVENT
BEGIN:VEVENT
DTSTART;TZID=America/Chicago:20260729T090000
DTEND;TZID=America/Chicago:20260730T160000
DTSTAMP:20260422T165843
CREATED:20260303T213157Z
LAST-MODIFIED:20260303T213157Z
UID:7703-1785315600-1785427200@rbnc.org
SUMMARY:Animal Camp K-2nd Grade
DESCRIPTION:Animal Camp K-2nd Grade\nWednesday & Thursday\, July 29th\, & 30th \n9:00 am – 4:00 pm \nAre you ready to explore River Bend? Discover the different habitats around the nature center and try to catch a glimpse of the animals that live there. \nDrop-off and pick-up at the main interpretive center \nIf you have questions\, you can call 507-332-7151 or email camp@rbnc.org \nRegister Here
URL:https://rbnc.org/event/animal-camp-k-2nd-grade
LOCATION:River Bend Nature Center\, 1000 Rustad Rd.\, Faribault\, MN\, 55021
GEO:44.2776174;-93.2413536
X-APPLE-STRUCTURED-LOCATION;VALUE=URI;X-ADDRESS=River Bend Nature Center 1000 Rustad Rd. Faribault MN 55021;X-APPLE-RADIUS=500;X-TITLE=1000 Rustad Rd.:geo:-93.2413536,44.2776174
END:VEVENT
BEGIN:VEVENT
DTSTART;TZID=America/Chicago:20260801T100000
DTEND;TZID=America/Chicago:20260801T110000
DTSTAMP:20260422T165843
CREATED:20260303T220355Z
LAST-MODIFIED:20260303T220355Z
UID:7709-1785578400-1785582000@rbnc.org
SUMMARY:Bagels & Birds
DESCRIPTION:Bagels & Birds\nAll ages. Cost: Free \nSaturday\, August 1\, 10:00 am-11:00 am \nJoin us on the first Saturday each month.  Enjoy coffee and bagels in a relaxed atmosphere while watching wildlife from the comfort of the Interpretive Center through our Windows on the Wild viewing area. Bagels provided by The Inn at Shattuck. \nRegister Here
URL:https://rbnc.org/event/bagels-birds-33
LOCATION:River Bend Nature Center\, 1000 Rustad Rd.\, Faribault\, MN\, 55021
GEO:44.2776174;-93.2413536
X-APPLE-STRUCTURED-LOCATION;VALUE=URI;X-ADDRESS=River Bend Nature Center 1000 Rustad Rd. Faribault MN 55021;X-APPLE-RADIUS=500;X-TITLE=1000 Rustad Rd.:geo:-93.2413536,44.2776174
END:VEVENT
BEGIN:VEVENT
DTSTART;TZID=America/Chicago:20260801T110000
DTEND;TZID=America/Chicago:20260801T120000
DTSTAMP:20260422T165843
CREATED:20260303T220619Z
LAST-MODIFIED:20260303T220619Z
UID:7711-1785582000-1785585600@rbnc.org
SUMMARY:Story Time Pollinators
DESCRIPTION:Story time with a Naturalist: Pollinators\nAll ages. Cost: Free \nSaturday\, August 1\, 11:00 am-12:00 pm \nJoin a Naturalist for a fun and interactive story time all about pollinators! \nRegister Here
URL:https://rbnc.org/event/story-time-pollinators-2
LOCATION:River Bend Nature Center\, 1000 Rustad Rd.\, Faribault\, MN\, 55021
GEO:44.2776174;-93.2413536
X-APPLE-STRUCTURED-LOCATION;VALUE=URI;X-ADDRESS=River Bend Nature Center 1000 Rustad Rd. Faribault MN 55021;X-APPLE-RADIUS=500;X-TITLE=1000 Rustad Rd.:geo:-93.2413536,44.2776174
END:VEVENT
BEGIN:VEVENT
DTSTART;TZID=America/Chicago:20260819T120000
DTEND;TZID=America/Chicago:20260819T140000
DTSTAMP:20260422T165843
CREATED:20260422T181652Z
LAST-MODIFIED:20260422T181652Z
UID:7787-1787140800-1787148000@rbnc.org
SUMMARY:Lunch & Learn: Minnesota's Mussels
DESCRIPTION:Lunch & Learn: Minnesota’s Mussels with Andy Wendt\, Nerstrand State Park Naturalist\nCost: $5/member\, $10/non-member \nAdult Learning\, 18+ \nWednesday\, August 19\,  12:00-2:00pm \nJoin Nerstrand Big Woods State Park Naturalist Andy Wendt to explore the fascinating world of Minnesota’s mussels. Discover their importance to our waters and some of the unique ways they complete their lifecycle. You will also have an opportunity to learn how you can help protect these ecosystem superstars! \nGuest Speaker begins at 12:30 pm. Bring your own lunch and enjoy! \nRegister Here
URL:https://rbnc.org/event/lunch-learn-minnesotas-mussels
LOCATION:River Bend Nature Center\, 1000 Rustad Rd.\, Faribault\, MN\, 55021
GEO:44.2776174;-93.2413536
X-APPLE-STRUCTURED-LOCATION;VALUE=URI;X-ADDRESS=River Bend Nature Center 1000 Rustad Rd. Faribault MN 55021;X-APPLE-RADIUS=500;X-TITLE=1000 Rustad Rd.:geo:-93.2413536,44.2776174
END:VEVENT
BEGIN:VEVENT
DTSTART;TZID=America/Chicago:20260916T120000
DTEND;TZID=America/Chicago:20260916T140000
DTSTAMP:20260422T165843
CREATED:20260422T181916Z
LAST-MODIFIED:20260422T181916Z
UID:7789-1789560000-1789567200@rbnc.org
SUMMARY:Lunch & Learn: The National Wild Turkey Federation
DESCRIPTION:Lunch & Learn: The National Wild Turkey Federation and Restoring Wild Turkeys in Minnesota\nCost: $5/member\, $10/non-member \nAdult Learning\, 18+ \nWednesday\, September 16\,  12:00-2:00pm \nSteve Misvaer\, Regional Director NWTF and Linden Anderson\, Minnesota DNR and NWTF Volunteer\, will be discussing the NWTF’s past\, present and future turkey restoration efforts as well as a discussion on the efforts to reintroduce wild turkeys to Minnesota over the past century. This presentation will cover both the challenges and successes\, as well as the lessons learned throughout the restoration process. It will feature insights and stories from one of the individuals involved in Minnesota’s trap-and-transplant program. \nGuest Speaker begins at 12:30 pm. Bring your own lunch and enjoy! \nRegister Here
URL:https://rbnc.org/event/lunch-learn-the-national-wild-turkey-federation
LOCATION:River Bend Nature Center\, 1000 Rustad Rd.\, Faribault\, MN\, 55021
GEO:44.2776174;-93.2413536
X-APPLE-STRUCTURED-LOCATION;VALUE=URI;X-ADDRESS=River Bend Nature Center 1000 Rustad Rd. Faribault MN 55021;X-APPLE-RADIUS=500;X-TITLE=1000 Rustad Rd.:geo:-93.2413536,44.2776174
END:VEVENT
END:VCALENDAR