BEGIN:VCALENDAR
VERSION:2.0
PRODID:-//River Bend Nature Center - ECPv6.15.20//NONSGML v1.0//EN
CALSCALE:GREGORIAN
METHOD:PUBLISH
X-WR-CALNAME:River Bend Nature Center
X-ORIGINAL-URL:https://rbnc.org
X-WR-CALDESC:Events for River Bend Nature Center
REFRESH-INTERVAL;VALUE=DURATION:PT1H
X-Robots-Tag:noindex
X-PUBLISHED-TTL:PT1H
BEGIN:VTIMEZONE
TZID:America/Chicago
BEGIN:DAYLIGHT
TZOFFSETFROM:-0600
TZOFFSETTO:-0500
TZNAME:CDT
DTSTART:20210314T080000
END:DAYLIGHT
BEGIN:STANDARD
TZOFFSETFROM:-0500
TZOFFSETTO:-0600
TZNAME:CST
DTSTART:20211107T070000
END:STANDARD
BEGIN:DAYLIGHT
TZOFFSETFROM:-0600
TZOFFSETTO:-0500
TZNAME:CDT
DTSTART:20220313T080000
END:DAYLIGHT
BEGIN:STANDARD
TZOFFSETFROM:-0500
TZOFFSETTO:-0600
TZNAME:CST
DTSTART:20221106T070000
END:STANDARD
BEGIN:DAYLIGHT
TZOFFSETFROM:-0600
TZOFFSETTO:-0500
TZNAME:CDT
DTSTART:20230312T080000
END:DAYLIGHT
BEGIN:STANDARD
TZOFFSETFROM:-0500
TZOFFSETTO:-0600
TZNAME:CST
DTSTART:20231105T070000
END:STANDARD
END:VTIMEZONE
BEGIN:VEVENT
DTSTART;TZID=America/Chicago:20220319T053000
DTEND;TZID=America/Chicago:20220319T063000
DTSTAMP:20260425T100434
CREATED:20220304T223500Z
LAST-MODIFIED:20220304T223500Z
UID:3845-1647667800-1647671400@rbnc.org
SUMMARY:Maple Syruping
DESCRIPTION:Maple syruping is a tradition that dates back to the first nations that lived in this area. Learn about the history of maple syruping\, what makes the sap flow\, and the process of turning sap into syrup through a hands-on syruping experience. \nCost: $5/person\, $15/family (FREE for members) * a family is 2 adults and 4 kids under 18 \nSaturday\, March 19\, 10:30am-11:30am  &  12:30pm-1:30pm
URL:https://rbnc.org/event/maple-syruping-2
LOCATION:MINNESOTA
END:VEVENT
BEGIN:VEVENT
DTSTART;TZID=America/Chicago:20220325T130000
DTEND;TZID=America/Chicago:20220325T143000
DTSTAMP:20260425T100434
CREATED:20220304T224109Z
LAST-MODIFIED:20220304T224109Z
UID:3847-1648213200-1648218600@rbnc.org
SUMMARY:All About Owls!
DESCRIPTION:All About Owls! \nAll ages. Cost: $5member/$20member family; & $10person/$40 family; * A family is 2 adults & up to 4 children under 18 \nFriday\, March 25\, 6:00pm-7:30pm \nLearn all about the owls of Minnesota\, dissect an owl pellet\, and go on a short naturalist hike to look for owls.
URL:https://rbnc.org/event/all-about-owls
LOCATION:MINNESOTA
END:VEVENT
BEGIN:VEVENT
DTSTART;TZID=America/Chicago:20220402T060000
DTEND;TZID=America/Chicago:20220402T070000
DTSTAMP:20260425T100434
CREATED:20220304T224641Z
LAST-MODIFIED:20220304T224641Z
UID:3849-1648879200-1648882800@rbnc.org
SUMMARY:Peregrine Falcons-Live Raptors!
DESCRIPTION:Party with Peregrine Falcons-Live Raptors! (all ages\, $5/kids 12+under\, $10/adult) \nSaturday\, April 2 \nSession 1: 11am-12pm \nSession 2: 12:30pm-1:30pm \nRaptors are often regarded as a species to be admired and prized by human societies\, often representing power\, independence\, and strength. In particular\, peregrine falcons have risen to the highest level of admiration due to their striking physical markings\, speed\, and care for their young. When the peregrine falcon population plummeted to fewer than 200 birds in the United States\, it was no wonder that many people joined forces to save the species. \nCome and learn more about the peregrine story\, what is being done right here in Minnesota to help the species\, and what we have discovered about them after 40 years of research. Jackie Fallon\, wildlife biologist\, master falconer\, and educator for over 30 years\, will be our presenter. She is currently the VP of Field Operations for the Midwest Peregrine Society and MN state coordinator for peregrine monitoring and currently manages all aspects of research at over 50 peregrine falcon territories in Minnesota and Wisconsin.
URL:https://rbnc.org/event/peregrine-falcons-live-raptors
LOCATION:MINNESOTA
END:VEVENT
BEGIN:VEVENT
DTSTART;TZID=America/Chicago:20220412T043000
DTEND;TZID=America/Chicago:20220412T060000
DTSTAMP:20260425T100434
CREATED:20220304T233720Z
LAST-MODIFIED:20220304T233720Z
UID:3874-1649737800-1649743200@rbnc.org
SUMMARY:Little Sprouts!
DESCRIPTION:Little Sprouts is a parent/child class for children birth through 5 years old. There are planned educational exploration activities with a different theme each week. Dress for the weather\, as most of the class will be outside. \nClasses are held on Tuesdays from 9:30-11 am unless otherwise noted. \nCost: $10/child\, $5/member child \nApril 12 Shapes in Nature \nApril 26 Birds and Nests \nMay 10 Worms and Mud \nMay 24 What’s in the Water? \nSaturday\, June 11 Textures of Nature (0-3 yr olds) \nJune 14 Shapes in Nature (3-5 yr olds) 9 am-11 am \nJune 28 What’s in the Water (0-3 yr olds) \nAugust 2 What’s in the Water (3-5 yr olds) 9 am-11 am \nAugust 9 Beautiful Birds (0-3 yr olds)
URL:https://rbnc.org/event/little-sprouts/2022-04-12
LOCATION:MINNESOTA
END:VEVENT
BEGIN:VEVENT
DTSTART;TZID=America/Chicago:20220420T130000
DTEND;TZID=America/Chicago:20220420T143000
DTSTAMP:20260425T100434
CREATED:20220304T232251Z
LAST-MODIFIED:20220304T232251Z
UID:3870-1650459600-1650465000@rbnc.org
SUMMARY:Bluebird Conservation
DESCRIPTION:Bluebird Conservation\nWednesday\, April 20\, from 6 pm- 7:30 pm \n$5/member\, $10/nonmember \nLearn all about these beautiful birds and statewide conservation efforts from the Bluebird Recovery Program of Minnesota.
URL:https://rbnc.org/event/bluebird-conservation
LOCATION:MINNESOTA
END:VEVENT
BEGIN:VEVENT
DTSTART;TZID=America/Chicago:20220421T130000
DTEND;TZID=America/Chicago:20220421T150000
DTSTAMP:20260425T100434
CREATED:20220304T225448Z
LAST-MODIFIED:20220304T225448Z
UID:3857-1650546000-1650553200@rbnc.org
SUMMARY:Great River Greening Buckthorn Bust
DESCRIPTION:On behalf of River Bend Nature Center\, Great River Greening is hosting a series of restoration events throughout early 2022. The management of invasive species\, accomplished by dedicated volunteers\, helps to enhance and protect the dwarf trout lily habitat\, the surrounding big woods habitat\, and increase biodiversity. \nGreat River Greening- Buckthorn Bust! \nThursday\, April 21\, 6 pm – 8 pm \nSaturday\, April 30\, 9 am – 12 pm \nBuckthorn is a dense shrub that can overtake a forest floor very quickly and out-compete native foliage.
URL:https://rbnc.org/event/great-river-greening-buckthorn-bust
LOCATION:MINNESOTA
END:VEVENT
BEGIN:VEVENT
DTSTART;TZID=America/Chicago:20220430T040000
DTEND;TZID=America/Chicago:20220430T070000
DTSTAMP:20260425T100434
CREATED:20220304T225727Z
LAST-MODIFIED:20220304T225727Z
UID:3859-1651291200-1651302000@rbnc.org
SUMMARY:Great River Greening Buckthorn Bust
DESCRIPTION:On behalf of River Bend Nature Center\, Great River Greening is hosting a series of restoration events throughout early 2022. The management of invasive species\, accomplished by dedicated volunteers\, helps to enhance and protect the dwarf trout lily habitat\, the surrounding big woods habitat\, and increase biodiversity. \nGreat River Greening- Buckthorn Bust! \nSaturday\, April 30\, 9 am – 12 pm \nBuckthorn is a dense shrub that can overtake a forest floor very quickly and out-compete native foliage. You must pre-register with Great River Greening for this event.
URL:https://rbnc.org/event/great-river-greening-buckthorn-bust-2
LOCATION:MINNESOTA
END:VEVENT
BEGIN:VEVENT
DTSTART;TZID=America/Chicago:20220505T130000
DTEND;TZID=America/Chicago:20220505T150000
DTSTAMP:20260425T100434
CREATED:20220304T230433Z
LAST-MODIFIED:20220304T230433Z
UID:3861-1651755600-1651762800@rbnc.org
SUMMARY:Great River Greening- Pulling Garlic Mustard and Dame's Rocket
DESCRIPTION:Great River Greening- Pulling Garlic Mustard and Dame’s Rocket \nThursday\, May 5\, 6 pm – 8 pm \nVolunteers will work to hand-pull invasive garlic mustard and dame’s rocket plants to help protect the dwarf trout lily that makes its home at the nature center. On behalf of River Bend Nature Center\, Great River Greening is hosting a series of restoration events throughout early 2022. The management of invasive species\, accomplished by dedicated volunteers\, helps to enhance and protect the dwarf trout lily habitat\, the surrounding big woods habitat\, and increase biodiversity. \nThese are family-friendly events. Volunteers of all ages and backgrounds are encouraged to attend. No previous knowledge or experience is necessary\, we will provide the tools and training required. \nWe will have light snacks and extra water available\, however\, please bring your own reusable water bottle and any additional snacks or lunch items you may need. \nEnsuring the safety of our volunteers is our highest priority. It is important that event participants wear close-toed shoes and long sleeves to protect against ticks and scratchy brush. We recommend dressing for the weather\, layers are key. We will hold the event rain or shine. \nOnce you have registered via GivePulse\, organizers from Great River Greening will approve your registration and you will receive confirmation. You will continue to receive event reminders as the event nears. If you have further questions\, please contact Amy at volunteer@greatrivergreening.org. If the event has reached capacity\, please add your name to the waitlist and you will be automatically registered if space becomes available.
URL:https://rbnc.org/event/great-river-greening-pulling-garlic-mustard-and-dames-rocket
LOCATION:MINNESOTA
END:VEVENT
END:VCALENDAR