BEGIN:VCALENDAR
VERSION:2.0
PRODID:-//River Bend Nature Center - ECPv6.15.20//NONSGML v1.0//EN
CALSCALE:GREGORIAN
METHOD:PUBLISH
X-WR-CALNAME:River Bend Nature Center
X-ORIGINAL-URL:https://rbnc.org
X-WR-CALDESC:Events for River Bend Nature Center
REFRESH-INTERVAL;VALUE=DURATION:PT1H
X-Robots-Tag:noindex
X-PUBLISHED-TTL:PT1H
BEGIN:VTIMEZONE
TZID:America/Chicago
BEGIN:DAYLIGHT
TZOFFSETFROM:-0600
TZOFFSETTO:-0500
TZNAME:CDT
DTSTART:20210314T080000
END:DAYLIGHT
BEGIN:STANDARD
TZOFFSETFROM:-0500
TZOFFSETTO:-0600
TZNAME:CST
DTSTART:20211107T070000
END:STANDARD
BEGIN:DAYLIGHT
TZOFFSETFROM:-0600
TZOFFSETTO:-0500
TZNAME:CDT
DTSTART:20220313T080000
END:DAYLIGHT
BEGIN:STANDARD
TZOFFSETFROM:-0500
TZOFFSETTO:-0600
TZNAME:CST
DTSTART:20221106T070000
END:STANDARD
BEGIN:DAYLIGHT
TZOFFSETFROM:-0600
TZOFFSETTO:-0500
TZNAME:CDT
DTSTART:20230312T080000
END:DAYLIGHT
BEGIN:STANDARD
TZOFFSETFROM:-0500
TZOFFSETTO:-0600
TZNAME:CST
DTSTART:20231105T070000
END:STANDARD
END:VTIMEZONE
BEGIN:VEVENT
DTSTART;TZID=America/Chicago:20220305T063000
DTEND;TZID=America/Chicago:20220305T073000
DTSTAMP:20260425T205611
CREATED:20220304T223351Z
LAST-MODIFIED:20220304T223351Z
UID:3843-1646461800-1646465400@rbnc.org
SUMMARY:Maple Syruping
DESCRIPTION:Maple syruping is a tradition that dates back to the first nations that lived in this area. Learn about the history of maple syruping\, what makes the sap flow\, and the process of turning sap into syrup through a hands-on syruping experience. \nCost: $5/person\, $15/family (FREE for members) * a family is 2 adults and 4 kids under 18 \nSaturday\, March 5\, 12:30pm-1:30pm \nSaturday\, March 19\, 10:30am-11:30am  &  12:30pm-1:30pm
URL:https://rbnc.org/event/maple-syruping
LOCATION:MINNESOTA
END:VEVENT
BEGIN:VEVENT
DTSTART;TZID=America/Chicago:20220316T070000
DTEND;TZID=America/Chicago:20220316T090000
DTSTAMP:20260425T205611
CREATED:20220304T231203Z
LAST-MODIFIED:20220304T231203Z
UID:3868-1647414000-1647421200@rbnc.org
SUMMARY:Lunch & Learn Environmental Good News By Jan Mitchell
DESCRIPTION:Join us once a month for an environmental presentation. \nLunch & Learn: Environmental Good News By: Jan Mitchell\nWednesday\, March 16\, from 12 pm-2 pm \nFeeling down about the state of our environment? Join us as Jan Mitchell\, River Bend Volunteer Naturalist\, tells us about some environmental success stories.
URL:https://rbnc.org/event/lunch-learn-environmental-good-news-by-jan-mitchell
LOCATION:MINNESOTA
END:VEVENT
END:VCALENDAR