BEGIN:VCALENDAR
VERSION:2.0
PRODID:-//River Bend Nature Center - ECPv6.15.20//NONSGML v1.0//EN
CALSCALE:GREGORIAN
METHOD:PUBLISH
X-WR-CALNAME:River Bend Nature Center
X-ORIGINAL-URL:https://rbnc.org
X-WR-CALDESC:Events for River Bend Nature Center
REFRESH-INTERVAL;VALUE=DURATION:PT1H
X-Robots-Tag:noindex
X-PUBLISHED-TTL:PT1H
BEGIN:VTIMEZONE
TZID:America/Chicago
BEGIN:DAYLIGHT
TZOFFSETFROM:-0600
TZOFFSETTO:-0500
TZNAME:CDT
DTSTART:20210314T080000
END:DAYLIGHT
BEGIN:STANDARD
TZOFFSETFROM:-0500
TZOFFSETTO:-0600
TZNAME:CST
DTSTART:20211107T070000
END:STANDARD
BEGIN:DAYLIGHT
TZOFFSETFROM:-0600
TZOFFSETTO:-0500
TZNAME:CDT
DTSTART:20220313T080000
END:DAYLIGHT
BEGIN:STANDARD
TZOFFSETFROM:-0500
TZOFFSETTO:-0600
TZNAME:CST
DTSTART:20221106T070000
END:STANDARD
BEGIN:DAYLIGHT
TZOFFSETFROM:-0600
TZOFFSETTO:-0500
TZNAME:CDT
DTSTART:20230312T080000
END:DAYLIGHT
BEGIN:STANDARD
TZOFFSETFROM:-0500
TZOFFSETTO:-0600
TZNAME:CST
DTSTART:20231105T070000
END:STANDARD
END:VTIMEZONE
BEGIN:VEVENT
DTSTART;TZID=America/Chicago:20220114T120000
DTEND;TZID=America/Chicago:20220114T140000
DTSTAMP:20260425T095402
CREATED:20211120T012939Z
LAST-MODIFIED:20211120T012939Z
UID:3645-1642161600-1642168800@rbnc.org
SUMMARY:Luminary Hike/Snowshoe
DESCRIPTION:Full Moon Luminary Hike/snowshoe \n\n\n\n\n\nAll ages. Cost: $10/member\, $15/member with rental; $15/non-members\, $20/non-members with rental\, 5& under are free \nFriday\, January 14\, 2022\, 6-8pm \nEnjoy the full moon with a luminary hike through River Bend. Trails are packed snow\, participants are welcome to bring their own snowshoes. \n*MASKS REQUIRED INDOORS* To help with spacing\, please pre-register for an entry time. this allows for better distancing. Thank you.
URL:https://rbnc.org/event/luminary-hike-snowshoe
LOCATION:MINNESOTA
END:VEVENT
BEGIN:VEVENT
DTSTART;TZID=America/Chicago:20220117T030000
DTEND;TZID=America/Chicago:20220117T093000
DTSTAMP:20260425T095402
CREATED:20211120T014049Z
LAST-MODIFIED:20211120T014049Z
UID:3647-1642388400-1642411800@rbnc.org
SUMMARY:Adventure Day-Pay What You Can!
DESCRIPTION:School is Out Adventure Days are day-long camps open to kindergarten through 5th grade students on days when school’s not in session\, but the craving for adventure and exploration is strong! River Bend’s team of naturalists will provide opportunities for outdoor recreation and activities to interact with\, discover\, and understand nature. \nCost: PAY WHAT YOU CAN\, EVEN $0! \nTimes: \n9AM to 3:30PM\, with optional childcare from 8AM to 4:30PM \nWhat should I bring? \nStudents should come prepared to spend a portion of the day outside – bring appropriate outdoor gear. Bring a lunch and any snacks needed to get through a full day of high activity. \n 
URL:https://rbnc.org/event/adventure-day-pay-what-you-can
LOCATION:MINNESOTA
END:VEVENT
BEGIN:VEVENT
DTSTART;TZID=America/Chicago:20220122T043000
DTEND;TZID=America/Chicago:20220122T043000
DTSTAMP:20260425T095402
CREATED:20211120T014335Z
LAST-MODIFIED:20211120T014544Z
UID:3649-1642825800-1642825800@rbnc.org
SUMMARY:Science Day: Give a Hoot About Owls
DESCRIPTION:January 22\, from 10:30-11:30am \nCome learn all about Owls and how they are important to our ecosystem. \nGrades: K-5th \nCost: $10/student \n*bring your lunch and say for the afternoon program\, Animal Tracking! (separate registration required)
URL:https://rbnc.org/event/science-day-give-a-hoot-about-owls
LOCATION:MINNESOTA
END:VEVENT
BEGIN:VEVENT
DTSTART;TZID=America/Chicago:20220122T063000
DTEND;TZID=America/Chicago:20220122T073000
DTSTAMP:20260425T095402
CREATED:20211120T014843Z
LAST-MODIFIED:20211120T014843Z
UID:3651-1642833000-1642836600@rbnc.org
SUMMARY:Science Day: Animal Tracking
DESCRIPTION:January 22\, 12:30-1:30pm \nOpen to homeschoolers/distance learners aged 5-11. Cost: $10 per child.\nPre-registration is required by Thursday\, January 20. \nAnimal Tracking \nCome learn all about animal tracking so you can figure out who’s been visiting your yard or the nature center.
URL:https://rbnc.org/event/science-day-animal-tracking
LOCATION:MINNESOTA
END:VEVENT
BEGIN:VEVENT
DTSTART;TZID=America/Chicago:20220125T033000
DTEND;TZID=America/Chicago:20220125T050000
DTSTAMP:20260425T095402
CREATED:20211120T015138Z
LAST-MODIFIED:20211120T015138Z
UID:3653-1643081400-1643086800@rbnc.org
SUMMARY:Little Sprouts: Meet the Animal Ambassadors
DESCRIPTION:Little Sprouts: Meet the Animal Ambassadors \nCost: $10/person\, $5/member\nTuesday\, January 25\, 2022\,  9:30am-11am \nMeet River Bend’s education animals! \nHave fun with your little one(s) as you explore different nature topics each class. Your little sprout will learn about the natural world through nature play and exploration. Be prepared to be outside for most of the class.
URL:https://rbnc.org/event/little-sprouts-meet-the-animal-ambassadors
LOCATION:MINNESOTA
END:VEVENT
BEGIN:VEVENT
DTSTART;TZID=America/Chicago:20220205T040000
DTEND;TZID=America/Chicago:20220205T050000
DTSTAMP:20260425T095402
CREATED:20211120T015431Z
LAST-MODIFIED:20211120T015431Z
UID:3655-1644033600-1644037200@rbnc.org
SUMMARY:Bagels & Birds
DESCRIPTION:Saturday\, February 5th \n10-11am\, Free for all ages. \nEnjoy bagels as you watch birds through the windows on the wild viewing area.
URL:https://rbnc.org/event/bagels-birds-6
LOCATION:MINNESOTA
END:VEVENT
BEGIN:VEVENT
DTSTART;TZID=America/Chicago:20220205T050000
DTEND;TZID=America/Chicago:20220205T060000
DTSTAMP:20260425T095402
CREATED:20211120T020208Z
LAST-MODIFIED:20211120T020208Z
UID:3657-1644037200-1644040800@rbnc.org
SUMMARY:U of MN Raptor Center
DESCRIPTION:Raptors of MN with the Raptor Center \nSaturday\, February 5\, 11am-12pm OR 12:30-1:30pm \n$5/child (12& under)\, $10/adult \n Come meet and learn about an Owl\, Hawk\, and Falcon with the Raptor Center of Minnesota! \n“The Raptors of Minnesota program explores different raptors found in Minnesota and their role in the environment. Participants learn some raptor identification\, habitats where different species are found\, key adaptations that make raptors different than other birds\, and amazing success stories of what is possible when we come together to protect wildlife and their environments.”
URL:https://rbnc.org/event/u-of-mn-raptor-center
LOCATION:MINNESOTA
END:VEVENT
END:VCALENDAR