BEGIN:VCALENDAR
VERSION:2.0
PRODID:-//River Bend Nature Center - ECPv6.15.20//NONSGML v1.0//EN
CALSCALE:GREGORIAN
METHOD:PUBLISH
X-WR-CALNAME:River Bend Nature Center
X-ORIGINAL-URL:https://rbnc.org
X-WR-CALDESC:Events for River Bend Nature Center
REFRESH-INTERVAL;VALUE=DURATION:PT1H
X-Robots-Tag:noindex
X-PUBLISHED-TTL:PT1H
BEGIN:VTIMEZONE
TZID:America/Chicago
BEGIN:DAYLIGHT
TZOFFSETFROM:-0600
TZOFFSETTO:-0500
TZNAME:CDT
DTSTART:20230312T080000
END:DAYLIGHT
BEGIN:STANDARD
TZOFFSETFROM:-0500
TZOFFSETTO:-0600
TZNAME:CST
DTSTART:20231105T070000
END:STANDARD
BEGIN:DAYLIGHT
TZOFFSETFROM:-0600
TZOFFSETTO:-0500
TZNAME:CDT
DTSTART:20240310T080000
END:DAYLIGHT
BEGIN:STANDARD
TZOFFSETFROM:-0500
TZOFFSETTO:-0600
TZNAME:CST
DTSTART:20241103T070000
END:STANDARD
BEGIN:DAYLIGHT
TZOFFSETFROM:-0600
TZOFFSETTO:-0500
TZNAME:CDT
DTSTART:20250309T080000
END:DAYLIGHT
BEGIN:STANDARD
TZOFFSETFROM:-0500
TZOFFSETTO:-0600
TZNAME:CST
DTSTART:20251102T070000
END:STANDARD
END:VTIMEZONE
BEGIN:VEVENT
DTSTART;TZID=America/Chicago:20240817T100000
DTEND;TZID=America/Chicago:20240817T110000
DTSTAMP:20260419T075028
CREATED:20240314T215318Z
LAST-MODIFIED:20240314T215318Z
UID:6102-1723888800-1723892400@rbnc.org
SUMMARY:Storytime with a Naturalist: What lives in the pond?
DESCRIPTION:Storytime with a Naturalist: What lives in the pond? \nAll ages. Cost: Free \nSaturday\, August 17\, 2024\, 10:00 am-11:00 am \nJoin a naturalist for storytime on Saturdays! Free to attend. Topics coordinate with Family Painting. Make a day of it and sign up for both!
URL:https://rbnc.org/event/storytime-with-a-naturalist-what-lives-in-the-pond
LOCATION:River Bend Nature Center\, 1000 Rustad Rd.\, Faribault\, MN\, 55021
GEO:44.2776174;-93.2413536
X-APPLE-STRUCTURED-LOCATION;VALUE=URI;X-ADDRESS=River Bend Nature Center 1000 Rustad Rd. Faribault MN 55021;X-APPLE-RADIUS=500;X-TITLE=1000 Rustad Rd.:geo:-93.2413536,44.2776174
END:VEVENT
BEGIN:VEVENT
DTSTART;TZID=America/Chicago:20240817T110000
DTEND;TZID=America/Chicago:20240817T123000
DTSTAMP:20260419T075028
CREATED:20240314T215426Z
LAST-MODIFIED:20240314T215426Z
UID:6104-1723892400-1723897800@rbnc.org
SUMMARY:Family Painting: Duck\, Duck\, Grey Duck
DESCRIPTION:Family Painting: Duck\, Duck\, Grey Duck \nAll ages. Cost: Free \nSaturday\, August 17\, 2024\, 11:00 am-12:30 pm \nJoin artist Kate Langlais for a fun\, free family painting program. Learn all about owls in Minnesota and how to paint them! Pre-registration is required to ensure enough supplies are available for participants. This activity is made possible by the voters of Minnesota through a grant from the Minnesota State Arts Board thanks to legislative appropriation from the arts and cultural heritage fund. Themes coordinate with Storytime with a Naturalist. Make a day of it and sign up for both!
URL:https://rbnc.org/event/family-painting-duck-duck-grey-duck
LOCATION:River Bend Nature Center\, 1000 Rustad Rd.\, Faribault\, MN\, 55021
GEO:44.2776174;-93.2413536
X-APPLE-STRUCTURED-LOCATION;VALUE=URI;X-ADDRESS=River Bend Nature Center 1000 Rustad Rd. Faribault MN 55021;X-APPLE-RADIUS=500;X-TITLE=1000 Rustad Rd.:geo:-93.2413536,44.2776174
END:VEVENT
BEGIN:VEVENT
DTSTART;TZID=America/Chicago:20240817T140000
DTEND;TZID=America/Chicago:20240817T150000
DTSTAMP:20260419T075028
CREATED:20240314T215736Z
LAST-MODIFIED:20240314T215736Z
UID:6106-1723903200-1723906800@rbnc.org
SUMMARY:Member Saturday: Prairie Sweep Netting
DESCRIPTION:Member Saturday: Prairie Sweep Netting \nAll ages. Cost: Free\, members only program \nSaturday\, August 17\, 2024\, 2:00 – 3:00 pm \nCome join us for an afternoon on the prairie! Learn how to use an ID book and sweepnet\, then go explore the prairie for insects that call it home.
URL:https://rbnc.org/event/member-saturday-prairie-sweep-netting
LOCATION:River Bend Nature Center\, 1000 Rustad Rd.\, Faribault\, MN\, 55021
GEO:44.2776174;-93.2413536
X-APPLE-STRUCTURED-LOCATION;VALUE=URI;X-ADDRESS=River Bend Nature Center 1000 Rustad Rd. Faribault MN 55021;X-APPLE-RADIUS=500;X-TITLE=1000 Rustad Rd.:geo:-93.2413536,44.2776174
END:VEVENT
END:VCALENDAR