BEGIN:VCALENDAR
VERSION:2.0
PRODID:-//River Bend Nature Center - ECPv6.15.20//NONSGML v1.0//EN
CALSCALE:GREGORIAN
METHOD:PUBLISH
X-WR-CALNAME:River Bend Nature Center
X-ORIGINAL-URL:https://rbnc.org
X-WR-CALDESC:Events for River Bend Nature Center
REFRESH-INTERVAL;VALUE=DURATION:PT1H
X-Robots-Tag:noindex
X-PUBLISHED-TTL:PT1H
BEGIN:VTIMEZONE
TZID:America/Chicago
BEGIN:DAYLIGHT
TZOFFSETFROM:-0600
TZOFFSETTO:-0500
TZNAME:CDT
DTSTART:20230312T080000
END:DAYLIGHT
BEGIN:STANDARD
TZOFFSETFROM:-0500
TZOFFSETTO:-0600
TZNAME:CST
DTSTART:20231105T070000
END:STANDARD
BEGIN:DAYLIGHT
TZOFFSETFROM:-0600
TZOFFSETTO:-0500
TZNAME:CDT
DTSTART:20240310T080000
END:DAYLIGHT
BEGIN:STANDARD
TZOFFSETFROM:-0500
TZOFFSETTO:-0600
TZNAME:CST
DTSTART:20241103T070000
END:STANDARD
BEGIN:DAYLIGHT
TZOFFSETFROM:-0600
TZOFFSETTO:-0500
TZNAME:CDT
DTSTART:20250309T080000
END:DAYLIGHT
BEGIN:STANDARD
TZOFFSETFROM:-0500
TZOFFSETTO:-0600
TZNAME:CST
DTSTART:20251102T070000
END:STANDARD
END:VTIMEZONE
BEGIN:VEVENT
DTSTART;TZID=America/Chicago:20240717T090000
DTEND;TZID=America/Chicago:20240717T160000
DTSTAMP:20260419T072313
CREATED:20240220T152919Z
LAST-MODIFIED:20240220T152947Z
UID:6009-1721206800-1721232000@rbnc.org
SUMMARY:Scales & Tails Summer Camp
DESCRIPTION:Scales & Tails – Meadowlarks & Herons (K-5)\nJuly 17 & 18\, Wed-Thurs\, 9am – 4pm\n$55 ($30 for members)\nReptiles and amphibians are everywhere! Come explore these animals and their amazing super powers that help them survive in the wild. Why do turtles live in ponds? Can snakes climb trees without arms? Come learn all about reptiles and amphibians and even meet some live animals up close! \nRegister Here
URL:https://rbnc.org/event/scales-tails-summer-camp/2024-07-17
LOCATION:River Bend Nature Center\, 1000 Rustad Rd.\, Faribault\, MN\, 55021
GEO:44.2776174;-93.2413536
X-APPLE-STRUCTURED-LOCATION;VALUE=URI;X-ADDRESS=River Bend Nature Center 1000 Rustad Rd. Faribault MN 55021;X-APPLE-RADIUS=500;X-TITLE=1000 Rustad Rd.:geo:-93.2413536,44.2776174
END:VEVENT
END:VCALENDAR