BEGIN:VCALENDAR
VERSION:2.0
PRODID:-//River Bend Nature Center - ECPv6.15.20//NONSGML v1.0//EN
CALSCALE:GREGORIAN
METHOD:PUBLISH
X-WR-CALNAME:River Bend Nature Center
X-ORIGINAL-URL:https://rbnc.org
X-WR-CALDESC:Events for River Bend Nature Center
REFRESH-INTERVAL;VALUE=DURATION:PT1H
X-Robots-Tag:noindex
X-PUBLISHED-TTL:PT1H
BEGIN:VTIMEZONE
TZID:America/Chicago
BEGIN:DAYLIGHT
TZOFFSETFROM:-0600
TZOFFSETTO:-0500
TZNAME:CDT
DTSTART:20230312T080000
END:DAYLIGHT
BEGIN:STANDARD
TZOFFSETFROM:-0500
TZOFFSETTO:-0600
TZNAME:CST
DTSTART:20231105T070000
END:STANDARD
BEGIN:DAYLIGHT
TZOFFSETFROM:-0600
TZOFFSETTO:-0500
TZNAME:CDT
DTSTART:20240310T080000
END:DAYLIGHT
BEGIN:STANDARD
TZOFFSETFROM:-0500
TZOFFSETTO:-0600
TZNAME:CST
DTSTART:20241103T070000
END:STANDARD
BEGIN:DAYLIGHT
TZOFFSETFROM:-0600
TZOFFSETTO:-0500
TZNAME:CDT
DTSTART:20250309T080000
END:DAYLIGHT
BEGIN:STANDARD
TZOFFSETFROM:-0500
TZOFFSETTO:-0600
TZNAME:CST
DTSTART:20251102T070000
END:STANDARD
END:VTIMEZONE
BEGIN:VEVENT
DTSTART;TZID=America/Chicago:20240215T180000
DTEND;TZID=America/Chicago:20240215T200000
DTSTAMP:20260419T201700
CREATED:20230913T184756Z
LAST-MODIFIED:20240129T211754Z
UID:5577-1708020000-1708027200@rbnc.org
SUMMARY:Luminary Hike
DESCRIPTION:Luminary Hike\nThursday\, February 15 6:00 – 8:00 pm\nAll ages\, 5 & under free\nCost: $10/member\, $15/member with snowshoe rental;\n$15/non-members\, $20/non-members with snowshoe rental\nMust pre-register for this event with a specific entry time\n\nWith or without snow\, come on out to River Bend and enjoy an illuminated evening hike! Hot cocoa will be provided! Participants are welcome to bring their own snowshoes.
URL:https://rbnc.org/event/full-moon-snowshoe-luminary-hike
LOCATION:River Bend Nature Center\, 1000 Rustad Rd.\, Faribault\, MN\, 55021
GEO:44.2776174;-93.2413536
X-APPLE-STRUCTURED-LOCATION;VALUE=URI;X-ADDRESS=River Bend Nature Center 1000 Rustad Rd. Faribault MN 55021;X-APPLE-RADIUS=500;X-TITLE=1000 Rustad Rd.:geo:-93.2413536,44.2776174
END:VEVENT
END:VCALENDAR