BEGIN:VCALENDAR
VERSION:2.0
PRODID:-//River Bend Nature Center - ECPv6.15.20//NONSGML v1.0//EN
CALSCALE:GREGORIAN
METHOD:PUBLISH
X-WR-CALNAME:River Bend Nature Center
X-ORIGINAL-URL:https://rbnc.org
X-WR-CALDESC:Events for River Bend Nature Center
REFRESH-INTERVAL;VALUE=DURATION:PT1H
X-Robots-Tag:noindex
X-PUBLISHED-TTL:PT1H
BEGIN:VTIMEZONE
TZID:America/Chicago
BEGIN:DAYLIGHT
TZOFFSETFROM:-0600
TZOFFSETTO:-0500
TZNAME:CDT
DTSTART:20210314T080000
END:DAYLIGHT
BEGIN:STANDARD
TZOFFSETFROM:-0500
TZOFFSETTO:-0600
TZNAME:CST
DTSTART:20211107T070000
END:STANDARD
BEGIN:DAYLIGHT
TZOFFSETFROM:-0600
TZOFFSETTO:-0500
TZNAME:CDT
DTSTART:20220313T080000
END:DAYLIGHT
BEGIN:STANDARD
TZOFFSETFROM:-0500
TZOFFSETTO:-0600
TZNAME:CST
DTSTART:20221106T070000
END:STANDARD
BEGIN:DAYLIGHT
TZOFFSETFROM:-0600
TZOFFSETTO:-0500
TZNAME:CDT
DTSTART:20230312T080000
END:DAYLIGHT
BEGIN:STANDARD
TZOFFSETFROM:-0500
TZOFFSETTO:-0600
TZNAME:CST
DTSTART:20231105T070000
END:STANDARD
END:VTIMEZONE
BEGIN:VEVENT
DTSTART;TZID=America/Chicago:20220802T100000
DTEND;TZID=America/Chicago:20220802T110000
DTSTAMP:20260420T025944
CREATED:20220725T181928Z
LAST-MODIFIED:20220725T181928Z
UID:4160-1659434400-1659438000@rbnc.org
SUMMARY:Archery Ages 8-15 Session 1
DESCRIPTION:Fee: $20/member\, $30/non-member\nStructure: 2 part program\, One-hour sessions\nTime: 10:00 – 11:00 am\nThe NASP archery equipment provided for this program was sponsored by a No Child Left Inside grant through the Minnesota DNR.\n\nTuesday\, August 2nd – Intro to Archery\nTuesday\, August 9th – Competition Archery
URL:https://rbnc.org/event/archery-ages-8-15-session-1/2022-08-02
LOCATION:MINNESOTA
END:VEVENT
END:VCALENDAR