BEGIN:VCALENDAR
VERSION:2.0
PRODID:-//River Bend Nature Center - ECPv6.15.20//NONSGML v1.0//EN
CALSCALE:GREGORIAN
METHOD:PUBLISH
X-ORIGINAL-URL:https://rbnc.org
X-WR-CALDESC:Events for River Bend Nature Center
REFRESH-INTERVAL;VALUE=DURATION:PT1H
X-Robots-Tag:noindex
X-PUBLISHED-TTL:PT1H
BEGIN:VTIMEZONE
TZID:America/Chicago
BEGIN:DAYLIGHT
TZOFFSETFROM:-0600
TZOFFSETTO:-0500
TZNAME:CDT
DTSTART:20210314T080000
END:DAYLIGHT
BEGIN:STANDARD
TZOFFSETFROM:-0500
TZOFFSETTO:-0600
TZNAME:CST
DTSTART:20211107T070000
END:STANDARD
BEGIN:DAYLIGHT
TZOFFSETFROM:-0600
TZOFFSETTO:-0500
TZNAME:CDT
DTSTART:20220313T080000
END:DAYLIGHT
BEGIN:STANDARD
TZOFFSETFROM:-0500
TZOFFSETTO:-0600
TZNAME:CST
DTSTART:20221106T070000
END:STANDARD
BEGIN:DAYLIGHT
TZOFFSETFROM:-0600
TZOFFSETTO:-0500
TZNAME:CDT
DTSTART:20230312T080000
END:DAYLIGHT
BEGIN:STANDARD
TZOFFSETFROM:-0500
TZOFFSETTO:-0600
TZNAME:CST
DTSTART:20231105T070000
END:STANDARD
END:VTIMEZONE
BEGIN:VEVENT
DTSTART;VALUE=DATE:20220724
DTEND;VALUE=DATE:20220727
DTSTAMP:20260420T101805
CREATED:20220305T002637Z
LAST-MODIFIED:20220305T002637Z
UID:3898-1658689200-1658861999@rbnc.org
SUMMARY:Summer Camp Herons (3rd-5th grade) Survival Skills Camp!
DESCRIPTION:Herons-entering 3rd through 5th Grade in Fall 2022\nJuly 25-26 Survival Skills Camp! \nWhat are the basics of human survival? How have humans survived in the past? This two-day camp will be spent having fun outside\, working collaboratively\, and learning lifelong skills that will be sure to excite any outdoor enthusiastic learner! \nBring lunch and snacks needed to get through a busy day. Join the River Bend naturalist team for a summer of discovery. Experience all of your favorite camp activities while making memories\, learning new skills\, and exploring nature.  Each camp has limited space available and will be filled on a first-come\, first-served basis. \nUpon completion of registration\, you will receive a confirmation email with an attached information packet including the River Bend liability form and health form. Two weeks before the camp\, you will receive an additional reminder email. These forms can also be found here. \n 
URL:https://rbnc.org/event/summer-camp-herons-3rd-5th-grade-survival-skills-camp
LOCATION:MINNESOTA
END:VEVENT
END:VCALENDAR