BEGIN:VCALENDAR
VERSION:2.0
PRODID:-//River Bend Nature Center - ECPv6.15.20//NONSGML v1.0//EN
CALSCALE:GREGORIAN
METHOD:PUBLISH
X-ORIGINAL-URL:https://rbnc.org
X-WR-CALDESC:Events for River Bend Nature Center
REFRESH-INTERVAL;VALUE=DURATION:PT1H
X-Robots-Tag:noindex
X-PUBLISHED-TTL:PT1H
BEGIN:VTIMEZONE
TZID:America/Chicago
BEGIN:DAYLIGHT
TZOFFSETFROM:-0600
TZOFFSETTO:-0500
TZNAME:CDT
DTSTART:20210314T080000
END:DAYLIGHT
BEGIN:STANDARD
TZOFFSETFROM:-0500
TZOFFSETTO:-0600
TZNAME:CST
DTSTART:20211107T070000
END:STANDARD
BEGIN:DAYLIGHT
TZOFFSETFROM:-0600
TZOFFSETTO:-0500
TZNAME:CDT
DTSTART:20220313T080000
END:DAYLIGHT
BEGIN:STANDARD
TZOFFSETFROM:-0500
TZOFFSETTO:-0600
TZNAME:CST
DTSTART:20221106T070000
END:STANDARD
BEGIN:DAYLIGHT
TZOFFSETFROM:-0600
TZOFFSETTO:-0500
TZNAME:CDT
DTSTART:20230312T080000
END:DAYLIGHT
BEGIN:STANDARD
TZOFFSETFROM:-0500
TZOFFSETTO:-0600
TZNAME:CST
DTSTART:20231105T070000
END:STANDARD
END:VTIMEZONE
BEGIN:VEVENT
DTSTART;VALUE=DATE:20220717
DTEND;VALUE=DATE:20220720
DTSTAMP:20260420T054958
CREATED:20220702T010055Z
LAST-MODIFIED:20220702T010055Z
UID:4085-1658084400-1658257199@rbnc.org
SUMMARY:Summer Camp - Meadowlarks& Herons (K-5) Water\, Water\, Everywhere!
DESCRIPTION:Meadowlarks & Herons (Grades K-5) \nJuly 18 & 19\, Mon-Tues\, 9am – 4pm\n$55 ($30 for members)\nJoin us as we explore WATER!  Where does water come from and where does it go?  How do living things use water?  We will explore the different forms of water that are or were at River Bend\, including the ocean!  Yes\, River Bend was once an ocean and we will explore what lived here during that time. \n Experience all of your favorite camp activities while making memories\, learning new skills\, and exploring nature. Each camp has limited space available and will be filled on a first-come\, first-served basis. Bring a lunch and snacks needed to get through a busy day.
URL:https://rbnc.org/event/summer-camp-meadowlarks-herons-k-5-water-water-everywhere
LOCATION:MINNESOTA
END:VEVENT
END:VCALENDAR