BEGIN:VCALENDAR
VERSION:2.0
PRODID:-//River Bend Nature Center - ECPv6.15.20//NONSGML v1.0//EN
CALSCALE:GREGORIAN
METHOD:PUBLISH
X-ORIGINAL-URL:https://rbnc.org
X-WR-CALDESC:Events for River Bend Nature Center
REFRESH-INTERVAL;VALUE=DURATION:PT1H
X-Robots-Tag:noindex
X-PUBLISHED-TTL:PT1H
BEGIN:VTIMEZONE
TZID:America/Chicago
BEGIN:DAYLIGHT
TZOFFSETFROM:-0600
TZOFFSETTO:-0500
TZNAME:CDT
DTSTART:20210314T080000
END:DAYLIGHT
BEGIN:STANDARD
TZOFFSETFROM:-0500
TZOFFSETTO:-0600
TZNAME:CST
DTSTART:20211107T070000
END:STANDARD
BEGIN:DAYLIGHT
TZOFFSETFROM:-0600
TZOFFSETTO:-0500
TZNAME:CDT
DTSTART:20220313T080000
END:DAYLIGHT
BEGIN:STANDARD
TZOFFSETFROM:-0500
TZOFFSETTO:-0600
TZNAME:CST
DTSTART:20221106T070000
END:STANDARD
BEGIN:DAYLIGHT
TZOFFSETFROM:-0600
TZOFFSETTO:-0500
TZNAME:CDT
DTSTART:20230312T080000
END:DAYLIGHT
BEGIN:STANDARD
TZOFFSETFROM:-0500
TZOFFSETTO:-0600
TZNAME:CST
DTSTART:20231105T070000
END:STANDARD
END:VTIMEZONE
BEGIN:VEVENT
DTSTART;VALUE=DATE:20220712
DTEND;VALUE=DATE:20220715
DTSTAMP:20260420T101803
CREATED:20220305T001846Z
LAST-MODIFIED:20220712T025528Z
UID:3892-1657652400-1657825199@rbnc.org
SUMMARY:Summer Camp Meadowlarks (K-2nd) Soaring in the Sky
DESCRIPTION:Meadowlarks-Entering Kindergarten through 2nd Grade in Fall 2022\nJuly 13-14 Soaring in the Sky \nCome fly away with us! From insects to birds and mammals\, explore the wonder of flight while learning about these animals. Campers’ heads will be so full of knowledge they just might float away! \nBring lunch and snacks needed to get through a busy day. Join the River Bend naturalist team for a summer of discovery. Experience all of your favorite camp activities while making memories\, learning new skills\, and exploring nature.  Each camp has limited space available and will be filled on a first-come\, first-served basis. \nUpon completion of registration\, you will receive a confirmation email with an attached information packet including the River Bend liability form and health form. Two weeks before the camp\, you will receive an additional reminder email. These forms can also be found here.
URL:https://rbnc.org/event/summer-camp-meadowlarks-k-2nd-soaring-in-the-sky
LOCATION:MINNESOTA
ATTACH;FMTTYPE=image/jpeg:https://rbnc.org/wp-content/uploads/2018/05/Birds-035b-scaled.jpg
END:VEVENT
END:VCALENDAR