BEGIN:VCALENDAR
VERSION:2.0
PRODID:-//River Bend Nature Center - ECPv6.15.20//NONSGML v1.0//EN
CALSCALE:GREGORIAN
METHOD:PUBLISH
X-ORIGINAL-URL:https://rbnc.org
X-WR-CALDESC:Events for River Bend Nature Center
REFRESH-INTERVAL;VALUE=DURATION:PT1H
X-Robots-Tag:noindex
X-PUBLISHED-TTL:PT1H
BEGIN:VTIMEZONE
TZID:America/Chicago
BEGIN:DAYLIGHT
TZOFFSETFROM:-0600
TZOFFSETTO:-0500
TZNAME:CDT
DTSTART:20210314T080000
END:DAYLIGHT
BEGIN:STANDARD
TZOFFSETFROM:-0500
TZOFFSETTO:-0600
TZNAME:CST
DTSTART:20211107T070000
END:STANDARD
BEGIN:DAYLIGHT
TZOFFSETFROM:-0600
TZOFFSETTO:-0500
TZNAME:CDT
DTSTART:20220313T080000
END:DAYLIGHT
BEGIN:STANDARD
TZOFFSETFROM:-0500
TZOFFSETTO:-0600
TZNAME:CST
DTSTART:20221106T070000
END:STANDARD
BEGIN:DAYLIGHT
TZOFFSETFROM:-0600
TZOFFSETTO:-0500
TZNAME:CDT
DTSTART:20230312T080000
END:DAYLIGHT
BEGIN:STANDARD
TZOFFSETFROM:-0500
TZOFFSETTO:-0600
TZNAME:CST
DTSTART:20231105T070000
END:STANDARD
END:VTIMEZONE
BEGIN:VEVENT
DTSTART;VALUE=DATE:20220626
DTEND;VALUE=DATE:20220629
DTSTAMP:20260420T054952
CREATED:20220305T002201Z
LAST-MODIFIED:20220305T002201Z
UID:3894-1656270000-1656442799@rbnc.org
SUMMARY:Summer Camp Herons (3rd-5th grade) Birds of a Feather
DESCRIPTION:Herons-entering 3rd through 5th Grade in Fall 2022\nJune 27-28 Birds of A Feather \nHow do birds fly? How do they build their nests? Join us as we explore the world of birds. In addition to educational activities\, there will also be plenty of time to search for the many birds that call River Bend home. \nBring lunch and snacks needed to get through a busy day. Join the River Bend naturalist team for a summer of discovery. Experience all of your favorite camp activities while making memories\, learning new skills\, and exploring nature.  Each camp has limited space available and will be filled on a first-come\, first-served basis. \nUpon completion of registration\, you will receive a confirmation email with an attached information packet including the River Bend liability form and health form. Two weeks before the camp\, you will receive an additional reminder email. These forms can also be found here.
URL:https://rbnc.org/event/summer-camp-herons-3rd-5th-grade-birds-of-a-feather
LOCATION:MINNESOTA
END:VEVENT
BEGIN:VEVENT
DTSTART;VALUE=DATE:20220628
DTEND;VALUE=DATE:20220701
DTSTAMP:20260420T054952
CREATED:20220305T002322Z
LAST-MODIFIED:20220305T002456Z
UID:3896-1656442800-1656615599@rbnc.org
SUMMARY:Summer Camp- Herons (3rd-5th grade) Archery Camp
DESCRIPTION:Herons-entering 3rd through 5th Grade in Fall 2022\nJune 29-30 Archery Camp \nLearn the basics of archery at River Bend Nature Center. Learners will explore the history of archery\, how humans have used archery for survival and will get to hone their skills with a bow and arrow over two days. Archery equipment is provided\, but students may bring their bow and arrow on day two of the camp if applicable. \nBring lunch and snacks needed to get through a busy day. Join the River Bend naturalist team for a summer of discovery. Experience all of your favorite camp activities while making memories\, learning new skills\, and exploring nature.  Each camp has limited space available and will be filled on a first-come\, first-served basis. \nUpon completion of registration\, you will receive a confirmation email with an attached information packet including the River Bend liability form and health form. Two weeks before the camp\, you will receive an additional reminder email. These forms can also be found here. \n 
URL:https://rbnc.org/event/summer-camp-herons-3rd-5th-grade-archery-camp
LOCATION:MINNESOTA
END:VEVENT
END:VCALENDAR