BEGIN:VCALENDAR
VERSION:2.0
PRODID:-//River Bend Nature Center - ECPv6.15.20//NONSGML v1.0//EN
CALSCALE:GREGORIAN
METHOD:PUBLISH
X-WR-CALNAME:River Bend Nature Center
X-ORIGINAL-URL:https://rbnc.org
X-WR-CALDESC:Events for River Bend Nature Center
REFRESH-INTERVAL;VALUE=DURATION:PT1H
X-Robots-Tag:noindex
X-PUBLISHED-TTL:PT1H
BEGIN:VTIMEZONE
TZID:America/Chicago
BEGIN:DAYLIGHT
TZOFFSETFROM:-0600
TZOFFSETTO:-0500
TZNAME:CDT
DTSTART:20210314T080000
END:DAYLIGHT
BEGIN:STANDARD
TZOFFSETFROM:-0500
TZOFFSETTO:-0600
TZNAME:CST
DTSTART:20211107T070000
END:STANDARD
BEGIN:DAYLIGHT
TZOFFSETFROM:-0600
TZOFFSETTO:-0500
TZNAME:CDT
DTSTART:20220313T080000
END:DAYLIGHT
BEGIN:STANDARD
TZOFFSETFROM:-0500
TZOFFSETTO:-0600
TZNAME:CST
DTSTART:20221106T070000
END:STANDARD
BEGIN:DAYLIGHT
TZOFFSETFROM:-0600
TZOFFSETTO:-0500
TZNAME:CDT
DTSTART:20230312T080000
END:DAYLIGHT
BEGIN:STANDARD
TZOFFSETFROM:-0500
TZOFFSETTO:-0600
TZNAME:CST
DTSTART:20231105T070000
END:STANDARD
END:VTIMEZONE
BEGIN:VEVENT
DTSTART;TZID=America/Chicago:20220216T060000
DTEND;TZID=America/Chicago:20220216T080000
DTSTAMP:20260422T173355
CREATED:20211120T021353Z
LAST-MODIFIED:20211120T021353Z
UID:3663-1644991200-1644998400@rbnc.org
SUMMARY:Lunch & Learn: Trumpeter Swan Conservation by: Larry Vorwerk
DESCRIPTION:Lunch & Learn: Trumpeter Swan Conservation By Larry Vorwerk \nCost: $10 ($5 for River Bend members).\n \nWednesday\, January 19\, 2022\, 12:00-2:00pm\nTopic: Trumpeter Swan Conservation by Larry Vorwerk \nBring your lunch and join us for a presentation on the Trumpeter Swan Conservation efforts in Minnesota. Larry Vorwerk\, a retired MN Zoo keeper and River Bend Volunteer Naturalist\, will discuss how the Trumpeter Swan was successfully reintroduced to Minnesota.
URL:https://rbnc.org/event/lunch-learn-trumpeter-swan-conservation-by-larry-vorwerk
LOCATION:MINNESOTA
END:VEVENT
END:VCALENDAR