BEGIN:VCALENDAR
VERSION:2.0
PRODID:-//River Bend Nature Center - ECPv6.15.20//NONSGML v1.0//EN
CALSCALE:GREGORIAN
METHOD:PUBLISH
X-WR-CALNAME:River Bend Nature Center
X-ORIGINAL-URL:https://rbnc.org
X-WR-CALDESC:Events for River Bend Nature Center
REFRESH-INTERVAL;VALUE=DURATION:PT1H
X-Robots-Tag:noindex
X-PUBLISHED-TTL:PT1H
BEGIN:VTIMEZONE
TZID:America/Chicago
BEGIN:DAYLIGHT
TZOFFSETFROM:-0600
TZOFFSETTO:-0500
TZNAME:CDT
DTSTART:20200308T080000
END:DAYLIGHT
BEGIN:STANDARD
TZOFFSETFROM:-0500
TZOFFSETTO:-0600
TZNAME:CST
DTSTART:20201101T070000
END:STANDARD
BEGIN:DAYLIGHT
TZOFFSETFROM:-0600
TZOFFSETTO:-0500
TZNAME:CDT
DTSTART:20210314T080000
END:DAYLIGHT
BEGIN:STANDARD
TZOFFSETFROM:-0500
TZOFFSETTO:-0600
TZNAME:CST
DTSTART:20211107T070000
END:STANDARD
BEGIN:DAYLIGHT
TZOFFSETFROM:-0600
TZOFFSETTO:-0500
TZNAME:CDT
DTSTART:20220313T080000
END:DAYLIGHT
BEGIN:STANDARD
TZOFFSETFROM:-0500
TZOFFSETTO:-0600
TZNAME:CST
DTSTART:20221106T070000
END:STANDARD
END:VTIMEZONE
BEGIN:VEVENT
DTSTART;TZID=America/Chicago:20211214T033000
DTEND;TZID=America/Chicago:20211214T050000
DTSTAMP:20260422T213250
CREATED:20210809T215900Z
LAST-MODIFIED:20210809T215920Z
UID:3535-1639452600-1639458000@rbnc.org
SUMMARY:Little Sprouts Animal Signs
DESCRIPTION:On December 14\, learn about what signs an animal might leave behind as the explore the woods\, then go on an exploration walk to find real-life animal signs. Little Sprouts is a parent child class\, held on the second and fourth Tuesday of the month\, exploring the natural world. Each week has planned educational activities and nature-play time. Make sure to dress for the weather\, as the class will be mainly outside. Masks are required when inside the building.
URL:https://rbnc.org/event/little-sprouts-animal-signs
LOCATION:MINNESOTA
END:VEVENT
END:VCALENDAR