BEGIN:VCALENDAR
VERSION:2.0
PRODID:-//River Bend Nature Center - ECPv6.15.20//NONSGML v1.0//EN
CALSCALE:GREGORIAN
METHOD:PUBLISH
X-ORIGINAL-URL:https://rbnc.org
X-WR-CALDESC:Events for River Bend Nature Center
REFRESH-INTERVAL;VALUE=DURATION:PT1H
X-Robots-Tag:noindex
X-PUBLISHED-TTL:PT1H
BEGIN:VTIMEZONE
TZID:America/Chicago
BEGIN:DAYLIGHT
TZOFFSETFROM:-0600
TZOFFSETTO:-0500
TZNAME:CDT
DTSTART:20200308T080000
END:DAYLIGHT
BEGIN:STANDARD
TZOFFSETFROM:-0500
TZOFFSETTO:-0600
TZNAME:CST
DTSTART:20201101T070000
END:STANDARD
BEGIN:DAYLIGHT
TZOFFSETFROM:-0600
TZOFFSETTO:-0500
TZNAME:CDT
DTSTART:20210314T080000
END:DAYLIGHT
BEGIN:STANDARD
TZOFFSETFROM:-0500
TZOFFSETTO:-0600
TZNAME:CST
DTSTART:20211107T070000
END:STANDARD
BEGIN:DAYLIGHT
TZOFFSETFROM:-0600
TZOFFSETTO:-0500
TZNAME:CDT
DTSTART:20220313T080000
END:DAYLIGHT
BEGIN:STANDARD
TZOFFSETFROM:-0500
TZOFFSETTO:-0600
TZNAME:CST
DTSTART:20221106T070000
END:STANDARD
END:VTIMEZONE
BEGIN:VEVENT
DTSTART;TZID=America/Chicago:20210816T040000
DTEND;TZID=America/Chicago:20210816T070000
DTSTAMP:20260423T191847
CREATED:20210805T205328Z
LAST-MODIFIED:20210805T205328Z
UID:3473-1629086400-1629097200@rbnc.org
SUMMARY:Walk or Ride with a Naturalist
DESCRIPTION:Join a River Bend Naturalist for an hour-long walk (or golf cart ride) around the River Bend grounds. Learn a bit about the history and local flora and fauna at River Bend. \nThis program is part of Ramble\, a week-long fundraiser to support River Bend’s mission to help people discover\, enjoy\, understand\, and preserve the incredible natural world around us. \nIf you have purchased a Ramble week ticket\, you DO NOT need to purchase a ticket here\, this event is included in Ramble Admission. 
URL:https://rbnc.org/event/walk-or-ride-with-a-naturalist/2021-08-16
LOCATION:MINNESOTA
END:VEVENT
END:VCALENDAR